BEGIN:VCALENDAR
VERSION:2.0
PRODID:-//Alcoholics Anonymous (N.I.A.20-District 43) - ECPv6.15.20//NONSGML v1.0//EN
CALSCALE:GREGORIAN
METHOD:PUBLISH
X-ORIGINAL-URL:https://aa-nia-dist43.org
X-WR-CALDESC:Events for Alcoholics Anonymous (N.I.A.20-District 43)
REFRESH-INTERVAL;VALUE=DURATION:PT1H
X-Robots-Tag:noindex
X-PUBLISHED-TTL:PT1H
BEGIN:VTIMEZONE
TZID:America/Chicago
BEGIN:DAYLIGHT
TZOFFSETFROM:-0600
TZOFFSETTO:-0500
TZNAME:CDT
DTSTART:20220313T080000
END:DAYLIGHT
BEGIN:STANDARD
TZOFFSETFROM:-0500
TZOFFSETTO:-0600
TZNAME:CST
DTSTART:20221106T070000
END:STANDARD
BEGIN:DAYLIGHT
TZOFFSETFROM:-0600
TZOFFSETTO:-0500
TZNAME:CDT
DTSTART:20230312T080000
END:DAYLIGHT
BEGIN:STANDARD
TZOFFSETFROM:-0500
TZOFFSETTO:-0600
TZNAME:CST
DTSTART:20231105T070000
END:STANDARD
BEGIN:DAYLIGHT
TZOFFSETFROM:-0600
TZOFFSETTO:-0500
TZNAME:CDT
DTSTART:20240310T080000
END:DAYLIGHT
BEGIN:STANDARD
TZOFFSETFROM:-0500
TZOFFSETTO:-0600
TZNAME:CST
DTSTART:20241103T070000
END:STANDARD
END:VTIMEZONE
BEGIN:VEVENT
DTSTART;TZID=America/Chicago:20230825T160000
DTEND;TZID=America/Chicago:20230827T130000
DTSTAMP:20260425T114112
CREATED:20230606T010314Z
LAST-MODIFIED:20230818T181952Z
UID:4984-1692979200-1693141200@aa-nia-dist43.org
SUMMARY:AA Women's Retreat - Our Primary Purpose: Our Pathway to Peace
DESCRIPTION:This is a closed women’s AA retreat. \nRetreat Flyer
URL:https://aa-nia-dist43.org/event/aa-womens-retreat-our-primary-purpose-our-pathway-to-peace/
LOCATION:Lorado Taft Field Campus\, 1414 N River Road\, Oregon\, IL\, 61061\, United States
ATTACH;FMTTYPE=application/pdf:https://aa-nia-dist43.org/wp-content/uploads/2023/06/ourprimarypurposeourpathwaytopeace-1.pdf
END:VEVENT
END:VCALENDAR