BEGIN:VCALENDAR
VERSION:2.0
PRODID:-//Alcoholics Anonymous (N.I.A.20-District 43) - ECPv6.15.20//NONSGML v1.0//EN
CALSCALE:GREGORIAN
METHOD:PUBLISH
X-WR-CALNAME:Alcoholics Anonymous (N.I.A.20-District 43)
X-ORIGINAL-URL:https://aa-nia-dist43.org
X-WR-CALDESC:Events for Alcoholics Anonymous (N.I.A.20-District 43)
REFRESH-INTERVAL;VALUE=DURATION:PT1H
X-Robots-Tag:noindex
X-PUBLISHED-TTL:PT1H
BEGIN:VTIMEZONE
TZID:America/Chicago
BEGIN:DAYLIGHT
TZOFFSETFROM:-0600
TZOFFSETTO:-0500
TZNAME:CDT
DTSTART:20240310T080000
END:DAYLIGHT
BEGIN:STANDARD
TZOFFSETFROM:-0500
TZOFFSETTO:-0600
TZNAME:CST
DTSTART:20241103T070000
END:STANDARD
BEGIN:DAYLIGHT
TZOFFSETFROM:-0600
TZOFFSETTO:-0500
TZNAME:CDT
DTSTART:20250309T080000
END:DAYLIGHT
BEGIN:STANDARD
TZOFFSETFROM:-0500
TZOFFSETTO:-0600
TZNAME:CST
DTSTART:20251102T070000
END:STANDARD
BEGIN:DAYLIGHT
TZOFFSETFROM:-0600
TZOFFSETTO:-0500
TZNAME:CDT
DTSTART:20260308T080000
END:DAYLIGHT
BEGIN:STANDARD
TZOFFSETFROM:-0500
TZOFFSETTO:-0600
TZNAME:CST
DTSTART:20261101T070000
END:STANDARD
END:VTIMEZONE
BEGIN:VEVENT
DTSTART;TZID=America/Chicago:20250216T180000
DTEND;TZID=America/Chicago:20250216T203000
DTSTAMP:20260424T052036
CREATED:20250103T190701Z
LAST-MODIFIED:20250103T190726Z
UID:5697-1739728800-1739737800@aa-nia-dist43.org
SUMMARY:Foxhall Anniversary
DESCRIPTION:Foxhall Anniversary Digital Flyer \nAs always\, The Foxhall Meeting anniversary is also available on Zoom: \nMeeting ID: 938 369 2314  Password: 583339 \n 
URL:https://aa-nia-dist43.org/event/foxhall-anniversary/
LOCATION:All Saints Catholic Academy\, 1155 Aurora Ave.\, Naperville\, IL\, 60540
END:VEVENT
END:VCALENDAR