BEGIN:VCALENDAR
VERSION:2.0
PRODID:-//Alcoholics Anonymous (N.I.A.20-District 43) - ECPv6.15.20//NONSGML v1.0//EN
CALSCALE:GREGORIAN
METHOD:PUBLISH
X-WR-CALNAME:Alcoholics Anonymous (N.I.A.20-District 43)
X-ORIGINAL-URL:https://aa-nia-dist43.org
X-WR-CALDESC:Events for Alcoholics Anonymous (N.I.A.20-District 43)
REFRESH-INTERVAL;VALUE=DURATION:PT1H
X-Robots-Tag:noindex
X-PUBLISHED-TTL:PT1H
BEGIN:VTIMEZONE
TZID:America/Chicago
BEGIN:DAYLIGHT
TZOFFSETFROM:-0600
TZOFFSETTO:-0500
TZNAME:CDT
DTSTART:20240310T080000
END:DAYLIGHT
BEGIN:STANDARD
TZOFFSETFROM:-0500
TZOFFSETTO:-0600
TZNAME:CST
DTSTART:20241103T070000
END:STANDARD
BEGIN:DAYLIGHT
TZOFFSETFROM:-0600
TZOFFSETTO:-0500
TZNAME:CDT
DTSTART:20250309T080000
END:DAYLIGHT
BEGIN:STANDARD
TZOFFSETFROM:-0500
TZOFFSETTO:-0600
TZNAME:CST
DTSTART:20251102T070000
END:STANDARD
BEGIN:DAYLIGHT
TZOFFSETFROM:-0600
TZOFFSETTO:-0500
TZNAME:CDT
DTSTART:20260308T080000
END:DAYLIGHT
BEGIN:STANDARD
TZOFFSETFROM:-0500
TZOFFSETTO:-0600
TZNAME:CST
DTSTART:20261101T070000
END:STANDARD
BEGIN:DAYLIGHT
TZOFFSETFROM:-0600
TZOFFSETTO:-0500
TZNAME:CDT
DTSTART:20270314T080000
END:DAYLIGHT
BEGIN:STANDARD
TZOFFSETFROM:-0500
TZOFFSETTO:-0600
TZNAME:CST
DTSTART:20271107T070000
END:STANDARD
END:VTIMEZONE
BEGIN:VEVENT
DTSTART;VALUE=DATE:20260426
DTEND;VALUE=DATE:20260503
DTSTAMP:20260423T134341
CREATED:20260111T173453Z
LAST-MODIFIED:20260111T173453Z
UID:6077-1777161600-1777766399@aa-nia-dist43.org
SUMMARY:76th General Service Conference
DESCRIPTION:Our area delegate attends this annual event in New York.
URL:https://aa-nia-dist43.org/event/76th-general-service-conference/
END:VEVENT
BEGIN:VEVENT
DTSTART;TZID=America/Chicago:20260425T080000
DTEND;TZID=America/Chicago:20260425T150000
DTSTAMP:20260423T134341
CREATED:20260330T220105Z
LAST-MODIFIED:20260405T153102Z
UID:6261-1777104000-1777129200@aa-nia-dist43.org
SUMMARY:Thursday Night Discussion Group Spring Retreat 2026
DESCRIPTION:Flyer
URL:https://aa-nia-dist43.org/event/thursday-night-discussion-group-spring-retreat-2026/
LOCATION:Our Savior Lutheran Church- Celebration Campus\, 919 S Washington Street\, Naperville\, IL\, 60540\, United States
END:VEVENT
BEGIN:VEVENT
DTSTART;TZID=America/Chicago:20260418T180000
DTEND;TZID=America/Chicago:20260418T210000
DTSTAMP:20260423T134341
CREATED:20260201T213326Z
LAST-MODIFIED:20260221T175238Z
UID:6167-1776535200-1776546000@aa-nia-dist43.org
SUMMARY:District 43 Bingo Loco
DESCRIPTION:Glow Foam Sticks – Music\, Dancing\, Singing and oh… BINGO \nFLYER
URL:https://aa-nia-dist43.org/event/district-43-bingo-loco/
LOCATION:Community United Methodist Church\, 20 N. Center Street\, Naperville\, IL\, 60540\, United States
END:VEVENT
BEGIN:VEVENT
DTSTART;TZID=America/Chicago:20260415T190000
DTEND;TZID=America/Chicago:20260415T200000
DTSTAMP:20260423T134341
CREATED:20260107T235549Z
LAST-MODIFIED:20260107T235549Z
UID:6025-1776279600-1776283200@aa-nia-dist43.org
SUMMARY:District 43 Business Meeting
DESCRIPTION:JOIN \nZoom ID: 965 6659 0236 \nPassword: 932879
URL:https://aa-nia-dist43.org/event/district-43-business-meeting-18/
END:VEVENT
BEGIN:VEVENT
DTSTART;TZID=America/Chicago:20260411T080000
DTEND;TZID=America/Chicago:20260411T153000
DTSTAMP:20260423T134341
CREATED:20260315T181249Z
LAST-MODIFIED:20260315T181729Z
UID:6215-1775894400-1775921400@aa-nia-dist43.org
SUMMARY:Panel 76 PreGeneral Service Conference Workshop
DESCRIPTION:2026 NIA 20 Pre GSC Flyer \n2026 NIA PGSCW Breakouts
URL:https://aa-nia-dist43.org/event/panel-76-pregeneral-service-conference-workshop/
LOCATION:First Covenant Church\, 316 Wood Road\, Rockford\, IL\, 61107\, United States
END:VEVENT
BEGIN:VEVENT
DTSTART;TZID=America/Chicago:20260318T190000
DTEND;TZID=America/Chicago:20260318T200000
DTSTAMP:20260423T134341
CREATED:20260107T001956Z
LAST-MODIFIED:20260107T001956Z
UID:6019-1773860400-1773864000@aa-nia-dist43.org
SUMMARY:District 43 Business Meeting
DESCRIPTION:JOIN \nZoom ID: 965 6659 0236 \nPassword: 932879
URL:https://aa-nia-dist43.org/event/district-43-business-meeting-17/
END:VEVENT
BEGIN:VEVENT
DTSTART;TZID=America/Chicago:20260314T090000
DTEND;TZID=America/Chicago:20260314T150000
DTSTAMP:20260423T134341
CREATED:20260111T163648Z
LAST-MODIFIED:20260201T213136Z
UID:6060-1773478800-1773500400@aa-nia-dist43.org
SUMMARY:2026 NIA Area 20 Spring Assembly: Attention GSRs: Attend this please
DESCRIPTION:Attention GSRs: This is a voting meeting. Your attendance or your alternate is needed at this meeting. \nNIA 2026 Spring Assembly Flyer \nNIA 2026 Spanish Spring Assembly Flyer
URL:https://aa-nia-dist43.org/event/2026-nia-district-20-spring-assembly-attention-gsrs-attendance-mandatory/
LOCATION:Hyatt Regency Schaumburg\, 1800 East Golf Road\, Schaumburg\, IL\, 60173\, United States
END:VEVENT
BEGIN:VEVENT
DTSTART;VALUE=DATE:20260313
DTEND;VALUE=DATE:20260316
DTSTAMP:20260423T134341
CREATED:20260111T173733Z
LAST-MODIFIED:20260113T214415Z
UID:6079-1773360000-1773619199@aa-nia-dist43.org
SUMMARY:2026 NIA Area 20 Spring Conference
DESCRIPTION:Flyer
URL:https://aa-nia-dist43.org/event/2026-nia-area-20-spring-conference/
LOCATION:Hyatt Regency Schaumburg\, 1800 East Golf Road\, Schaumburg\, IL\, 60173\, United States
END:VEVENT
BEGIN:VEVENT
DTSTART;TZID=America/Chicago:20260221T180000
DTEND;TZID=America/Chicago:20260221T203000
DTSTAMP:20260423T134341
CREATED:20260113T215747Z
LAST-MODIFIED:20260113T215747Z
UID:6113-1771696800-1771705800@aa-nia-dist43.org
SUMMARY:14th Annual DuPage County Open
DESCRIPTION:Flyer
URL:https://aa-nia-dist43.org/event/14th-annual-dupage-county-open-2/
LOCATION:Parkview Community Church\, 764 St. Charles Road\, Glen Ellyn\, IL\, 60137
END:VEVENT
BEGIN:VEVENT
DTSTART;TZID=America/Chicago:20260218T190000
DTEND;TZID=America/Chicago:20260218T200000
DTSTAMP:20260423T134341
CREATED:20260106T235459Z
LAST-MODIFIED:20260106T235459Z
UID:6017-1771441200-1771444800@aa-nia-dist43.org
SUMMARY:District 43 Business Meeting
DESCRIPTION:JOIN \nZoom ID: 965 6659 0236 \nPassword: 932879
URL:https://aa-nia-dist43.org/event/district-43-business-meeting-16/
END:VEVENT
BEGIN:VEVENT
DTSTART;TZID=America/Chicago:20260215T180000
DTEND;TZID=America/Chicago:20260215T210000
DTSTAMP:20260423T134341
CREATED:20260113T212406Z
LAST-MODIFIED:20260113T212406Z
UID:6103-1771178400-1771189200@aa-nia-dist43.org
SUMMARY:Foxhall 16 Year Anniversary Celebration
DESCRIPTION:Flyer
URL:https://aa-nia-dist43.org/event/foxhall-16-year-anniversary-celebration/
LOCATION:VFW of Naperville\, 908 W. Jackson Ave\,\, Naperville\, IL\, United States
END:VEVENT
BEGIN:VEVENT
DTSTART;TZID=America/Chicago:20260206T080000
DTEND;TZID=America/Chicago:20260208T170000
DTSTAMP:20260423T134341
CREATED:20260113T210658Z
LAST-MODIFIED:20260113T211622Z
UID:6097-1770364800-1770570000@aa-nia-dist43.org
SUMMARY:ISCYPAA XLIII
DESCRIPTION:Flyer
URL:https://aa-nia-dist43.org/event/iscypaa-xliii/
LOCATION:Chicago Marriott Naperville\, 1801 N. Naper Blvd\, Naperville\, IL\, 60563\, United States
END:VEVENT
BEGIN:VEVENT
DTSTART;TZID=America/Chicago:20260131T100000
DTEND;TZID=America/Chicago:20260131T140000
DTSTAMP:20260423T134341
CREATED:20260125T191654Z
LAST-MODIFIED:20260125T191654Z
UID:6152-1769853600-1769868000@aa-nia-dist43.org
SUMMARY:GSR School
DESCRIPTION:GSR School Flyer
URL:https://aa-nia-dist43.org/event/gsr-school/
LOCATION:McHenry Township Hall\, 3703 N Richmond Rd #5451\, Johnsburg\, IL\, 60051
ORGANIZER;CN="NIA 20 District 11":MAILTO:dcm@aa-nia-dist11.org
END:VEVENT
BEGIN:VEVENT
DTSTART;TZID=America/Chicago:20260124T180000
DTEND;TZID=America/Chicago:20260124T210000
DTSTAMP:20260423T134341
CREATED:20260215T194517Z
LAST-MODIFIED:20260215T194815Z
UID:6179-1769277600-1769288400@aa-nia-dist43.org
SUMMARY:TNDG 34th Anniversary Dinner
DESCRIPTION:TNDG 2026 Anniversary Dinner Flyer
URL:https://aa-nia-dist43.org/event/tndg-34th-anniversary-dinner/
LOCATION:Ashbury Clubhouse\, 3403 Lawrence Drive\, Naperville\, IL\, United States
END:VEVENT
BEGIN:VEVENT
DTSTART;TZID=America/Chicago:20260124T160000
DTEND;TZID=America/Chicago:20260124T200000
DTSTAMP:20260423T134341
CREATED:20260113T215253Z
LAST-MODIFIED:20260113T215253Z
UID:6110-1769270400-1769284800@aa-nia-dist43.org
SUMMARY:29th Anniversary Pork Chop Dinner
DESCRIPTION:Flyer
URL:https://aa-nia-dist43.org/event/29th-anniversary-pork-chop-dinner/
LOCATION:Hinckley First United Methodist Church\, 801 N Sycamore St/\, Hinckley\, IL\, 60520\, United States
END:VEVENT
BEGIN:VEVENT
DTSTART;TZID=America/Chicago:20260122T183000
DTEND;TZID=America/Chicago:20260122T193000
DTSTAMP:20260423T134341
CREATED:20260118T172821Z
LAST-MODIFIED:20260118T173507Z
UID:6133-1769106600-1769110200@aa-nia-dist43.org
SUMMARY:JUST Background & Safety Training
DESCRIPTION:JUST Background & Safety Training Flyer
URL:https://aa-nia-dist43.org/event/just-background-safety-training-2/
LOCATION:501 N County Farm Rd. Wheaton\, IL 60187\, 501 N. County Farm Rd.\, Wheaton\, IL\, 60187\, United States
END:VEVENT
BEGIN:VEVENT
DTSTART;TZID=America/Chicago:20260121T190000
DTEND;TZID=America/Chicago:20260121T200000
DTSTAMP:20260423T134341
CREATED:20260103T182106Z
LAST-MODIFIED:20260103T182106Z
UID:6007-1769022000-1769025600@aa-nia-dist43.org
SUMMARY:District 43 Business Meeting
DESCRIPTION:JOIN \nZoom ID: 965 6659 0236 \nPassword: 932879 \n 
URL:https://aa-nia-dist43.org/event/district-43-business-meeting-15/
END:VEVENT
BEGIN:VEVENT
DTSTART;TZID=America/Chicago:20260117T080000
DTEND;TZID=America/Chicago:20260117T150000
DTSTAMP:20260423T134341
CREATED:20260103T193749Z
LAST-MODIFIED:20260103T193749Z
UID:6011-1768636800-1768662000@aa-nia-dist43.org
SUMMARY:Attention new GSRs and Committee Chairs! - NIA 20 Winter Committee Meeting
DESCRIPTION:The Service Orientation Workshop will focus on: \n\nThe role of the GSR\nService Committees\nPrimary Purpose Financing\nHow all of these pieces support and relate to the functioning of NIA within the General Service Structure
URL:https://aa-nia-dist43.org/event/attention-new-gsrs-and-committee-chairs-nia-20-winter-committee-meeting/
LOCATION:Lord of Life Lutheran Church\, 40W605 IL Rt 38\, Elburn\, IL\, United States
END:VEVENT
BEGIN:VEVENT
DTSTART;TZID=America/Chicago:20251217T190000
DTEND;TZID=America/Chicago:20251217T200000
DTSTAMP:20260423T134341
CREATED:20241217T215038Z
LAST-MODIFIED:20241217T220019Z
UID:5672-1765998000-1766001600@aa-nia-dist43.org
SUMMARY:District 43 Business Meeting
DESCRIPTION:JOIN \nZoom ID: 965 6659 0236 \nPassword: 932879 \n 
URL:https://aa-nia-dist43.org/event/district-43-business-meeting-14/
END:VEVENT
BEGIN:VEVENT
DTSTART;TZID=America/Chicago:20251213T080000
DTEND;TZID=America/Chicago:20251213T150000
DTSTAMP:20260423T134341
CREATED:20250311T202847Z
LAST-MODIFIED:20251201T222246Z
UID:5810-1765612800-1765638000@aa-nia-dist43.org
SUMMARY:Attention GSRs: NIA 20 Winter Assembly
DESCRIPTION:District 43 Host \nPlease contact our DCM to volunteer! \ndcm@aa-nia-dist43.org \nFor more information\, see the NIA website
URL:https://aa-nia-dist43.org/event/attention-gsrs-nia-20-winter-assembly/
LOCATION:Lord of Life Lutheran Church\, 40W605 IL Rt 38\, Elburn\, IL\, United States
END:VEVENT
BEGIN:VEVENT
DTSTART;TZID=America/Chicago:20251130T073000
DTEND;TZID=America/Chicago:20251130T083000
DTSTAMP:20260423T134341
CREATED:20251123T032713Z
LAST-MODIFIED:20251123T032713Z
UID:5984-1764487800-1764491400@aa-nia-dist43.org
SUMMARY:The Walk Meeting
DESCRIPTION:The Walk Meeting Flyer
URL:https://aa-nia-dist43.org/event/the-walk-meeting/
LOCATION:Naperville Riverfront Gazebo\, 320 Jackson Avenue\, Naperville\, IL\, 60540\, United States
END:VEVENT
BEGIN:VEVENT
DTSTART;TZID=America/Chicago:20251119T190000
DTEND;TZID=America/Chicago:20251119T200000
DTSTAMP:20260423T134341
CREATED:20241217T214929Z
LAST-MODIFIED:20241217T215938Z
UID:5670-1763578800-1763582400@aa-nia-dist43.org
SUMMARY:District 43 Business Meeting
DESCRIPTION:JOIN \nZoom ID: 965 6659 0236 \nPassword: 932879 \n 
URL:https://aa-nia-dist43.org/event/district-43-business-meeting-13/
END:VEVENT
BEGIN:VEVENT
DTSTART;VALUE=DATE:20251114
DTEND;VALUE=DATE:20251117
DTSTAMP:20260423T134341
CREATED:20250129T223508Z
LAST-MODIFIED:20250825T224458Z
UID:5740-1763078400-1763337599@aa-nia-dist43.org
SUMMARY:2025 Illinois State Conference
DESCRIPTION:2025-State-Conference-Flyer \n2025 State Conference Service Opportunities
URL:https://aa-nia-dist43.org/event/2025-illinois-state-conference/
LOCATION:Hyatt Regency Schaumburg\, 1800 East Golf Road\, Schaumburg\, IL\, 60173\, United States
END:VEVENT
BEGIN:VEVENT
DTSTART;TZID=America/Chicago:20251107T183000
DTEND;TZID=America/Chicago:20251107T213000
DTSTAMP:20260423T134341
CREATED:20251016T005856Z
LAST-MODIFIED:20251016T005935Z
UID:5968-1762540200-1762551000@aa-nia-dist43.org
SUMMARY:District 43 Sundaes\, Shares\, and Games
DESCRIPTION:District 43 Event Flyer Nov 7 2025
URL:https://aa-nia-dist43.org/event/district-43-sundaes-shares-and-games/
LOCATION:Community United Methodist Church\, 20 N. Center Street\, Naperville\, IL\, 60540\, United States
END:VEVENT
BEGIN:VEVENT
DTSTART;VALUE=DATE:20251024
DTEND;VALUE=DATE:20251027
DTSTAMP:20260423T134341
CREATED:20250920T212204Z
LAST-MODIFIED:20250920T212204Z
UID:5953-1761264000-1761523199@aa-nia-dist43.org
SUMMARY:12 Step House Men's Closed AA Fall Retreat
DESCRIPTION:Save the date Fall St Mary’s 2025 Notice
URL:https://aa-nia-dist43.org/event/12-step-house-mens-closed-aa-fall-retreat/
LOCATION:St Mary’s Retreat House\, 14230 Main St.\, Lemont\, IL\, 60439
END:VEVENT
BEGIN:VEVENT
DTSTART;TZID=America/Chicago:20251018T093000
DTEND;TZID=America/Chicago:20251018T153000
DTSTAMP:20260423T134341
CREATED:20250830T160824Z
LAST-MODIFIED:20250830T160824Z
UID:5940-1760779800-1760801400@aa-nia-dist43.org
SUMMARY:Big Book Conference 2025 - A Vision for You
DESCRIPTION:Big Book Conference 2025 flyer \nRegistration link
URL:https://aa-nia-dist43.org/event/big-book-conference-2025-a-vision-for-you/
LOCATION:Lord of Life Lutheran Church\, 40W605 IL Rt 38\, Elburn\, IL\, United States
END:VEVENT
BEGIN:VEVENT
DTSTART;TZID=America/Chicago:20251015T190000
DTEND;TZID=America/Chicago:20251015T200000
DTSTAMP:20260423T134341
CREATED:20241217T214808Z
LAST-MODIFIED:20251006T225921Z
UID:5668-1760554800-1760558400@aa-nia-dist43.org
SUMMARY:District 43 Business Meeting
DESCRIPTION:D43 Elections flyer for 2026-2027 \nJOIN \nZoom ID: 965 6659 0236 \nPassword: 932879 \n 
URL:https://aa-nia-dist43.org/event/district-43-business-meeting-12/
END:VEVENT
BEGIN:VEVENT
DTSTART;TZID=America/Chicago:20250917T190000
DTEND;TZID=America/Chicago:20250917T200000
DTSTAMP:20260423T134341
CREATED:20241217T214654Z
LAST-MODIFIED:20241217T215753Z
UID:5666-1758135600-1758139200@aa-nia-dist43.org
SUMMARY:District 43 Business Meeting
DESCRIPTION:JOIN \nZoom ID: 965 6659 0236 \nPassword: 932879 \n 
URL:https://aa-nia-dist43.org/event/district-43-business-meeting-11/
END:VEVENT
BEGIN:VEVENT
DTSTART;VALUE=DATE:20250913
DTEND;VALUE=DATE:20250914
DTSTAMP:20260423T134341
CREATED:20250311T202218Z
LAST-MODIFIED:20250830T155540Z
UID:5803-1757721600-1757807999@aa-nia-dist43.org
SUMMARY:Attention GSRs: NIA 20 Fall Assembly
DESCRIPTION:Fall Assembly Flyer \nDistrict 23 Host
URL:https://aa-nia-dist43.org/event/attention-gsrs-nia-20-fall-assembly/
LOCATION:Lord of Life Lutheran Church\, 40W605 IL Rt 38\, Elburn\, IL\, United States
END:VEVENT
BEGIN:VEVENT
DTSTART;TZID=America/Chicago:20250820T190000
DTEND;TZID=America/Chicago:20250820T200000
DTSTAMP:20260423T134341
CREATED:20241217T214546Z
LAST-MODIFIED:20250814T014425Z
UID:5664-1755716400-1755720000@aa-nia-dist43.org
SUMMARY:District 43 Business Meeting
DESCRIPTION:Bring Your Sponsee to District 2025 \nJOIN \nZoom ID: 965 6659 0236 \nPassword: 932879 \n 
URL:https://aa-nia-dist43.org/event/district-43-business-meeting-10/
END:VEVENT
END:VCALENDAR