BEGIN:VCALENDAR
VERSION:2.0
PRODID:-//Alcoholics Anonymous (N.I.A.20-District 43) - ECPv6.15.20//NONSGML v1.0//EN
CALSCALE:GREGORIAN
METHOD:PUBLISH
X-WR-CALNAME:Alcoholics Anonymous (N.I.A.20-District 43)
X-ORIGINAL-URL:https://aa-nia-dist43.org
X-WR-CALDESC:Events for Alcoholics Anonymous (N.I.A.20-District 43)
REFRESH-INTERVAL;VALUE=DURATION:PT1H
X-Robots-Tag:noindex
X-PUBLISHED-TTL:PT1H
BEGIN:VTIMEZONE
TZID:America/Chicago
BEGIN:DAYLIGHT
TZOFFSETFROM:-0600
TZOFFSETTO:-0500
TZNAME:CDT
DTSTART:20250309T080000
END:DAYLIGHT
BEGIN:STANDARD
TZOFFSETFROM:-0500
TZOFFSETTO:-0600
TZNAME:CST
DTSTART:20251102T070000
END:STANDARD
BEGIN:DAYLIGHT
TZOFFSETFROM:-0600
TZOFFSETTO:-0500
TZNAME:CDT
DTSTART:20260308T080000
END:DAYLIGHT
BEGIN:STANDARD
TZOFFSETFROM:-0500
TZOFFSETTO:-0600
TZNAME:CST
DTSTART:20261101T070000
END:STANDARD
BEGIN:DAYLIGHT
TZOFFSETFROM:-0600
TZOFFSETTO:-0500
TZNAME:CDT
DTSTART:20270314T080000
END:DAYLIGHT
BEGIN:STANDARD
TZOFFSETFROM:-0500
TZOFFSETTO:-0600
TZNAME:CST
DTSTART:20271107T070000
END:STANDARD
END:VTIMEZONE
BEGIN:VEVENT
DTSTART;TZID=America/Chicago:20260218T190000
DTEND;TZID=America/Chicago:20260218T200000
DTSTAMP:20260423T192008
CREATED:20260106T235459Z
LAST-MODIFIED:20260106T235459Z
UID:6017-1771441200-1771444800@aa-nia-dist43.org
SUMMARY:District 43 Business Meeting
DESCRIPTION:JOIN \nZoom ID: 965 6659 0236 \nPassword: 932879
URL:https://aa-nia-dist43.org/event/district-43-business-meeting-16/
LOCATION:IL
END:VEVENT
BEGIN:VEVENT
DTSTART;TZID=America/Chicago:20260221T180000
DTEND;TZID=America/Chicago:20260221T203000
DTSTAMP:20260423T192008
CREATED:20260113T215747Z
LAST-MODIFIED:20260113T215747Z
UID:6113-1771696800-1771705800@aa-nia-dist43.org
SUMMARY:14th Annual DuPage County Open
DESCRIPTION:Flyer
URL:https://aa-nia-dist43.org/event/14th-annual-dupage-county-open-2/
LOCATION:Parkview Community Church\, 764 St. Charles Road\, Glen Ellyn\, IL\, 60137
END:VEVENT
BEGIN:VEVENT
DTSTART;VALUE=DATE:20260313
DTEND;VALUE=DATE:20260316
DTSTAMP:20260423T192008
CREATED:20260111T173733Z
LAST-MODIFIED:20260113T214415Z
UID:6079-1773360000-1773619199@aa-nia-dist43.org
SUMMARY:2026 NIA Area 20 Spring Conference
DESCRIPTION:Flyer
URL:https://aa-nia-dist43.org/event/2026-nia-area-20-spring-conference/
LOCATION:Hyatt Regency Schaumburg\, 1800 East Golf Road\, Schaumburg\, IL\, 60173\, United States
END:VEVENT
BEGIN:VEVENT
DTSTART;TZID=America/Chicago:20260314T090000
DTEND;TZID=America/Chicago:20260314T150000
DTSTAMP:20260423T192008
CREATED:20260111T163648Z
LAST-MODIFIED:20260201T213136Z
UID:6060-1773478800-1773500400@aa-nia-dist43.org
SUMMARY:2026 NIA Area 20 Spring Assembly: Attention GSRs: Attend this please
DESCRIPTION:Attention GSRs: This is a voting meeting. Your attendance or your alternate is needed at this meeting. \nNIA 2026 Spring Assembly Flyer \nNIA 2026 Spanish Spring Assembly Flyer
URL:https://aa-nia-dist43.org/event/2026-nia-district-20-spring-assembly-attention-gsrs-attendance-mandatory/
LOCATION:Hyatt Regency Schaumburg\, 1800 East Golf Road\, Schaumburg\, IL\, 60173\, United States
END:VEVENT
BEGIN:VEVENT
DTSTART;TZID=America/Chicago:20260318T190000
DTEND;TZID=America/Chicago:20260318T200000
DTSTAMP:20260423T192008
CREATED:20260107T001956Z
LAST-MODIFIED:20260107T001956Z
UID:6019-1773860400-1773864000@aa-nia-dist43.org
SUMMARY:District 43 Business Meeting
DESCRIPTION:JOIN \nZoom ID: 965 6659 0236 \nPassword: 932879
URL:https://aa-nia-dist43.org/event/district-43-business-meeting-17/
LOCATION:IL
END:VEVENT
BEGIN:VEVENT
DTSTART;TZID=America/Chicago:20260411T080000
DTEND;TZID=America/Chicago:20260411T153000
DTSTAMP:20260423T192008
CREATED:20260315T181249Z
LAST-MODIFIED:20260315T181729Z
UID:6215-1775894400-1775921400@aa-nia-dist43.org
SUMMARY:Panel 76 PreGeneral Service Conference Workshop
DESCRIPTION:2026 NIA 20 Pre GSC Flyer \n2026 NIA PGSCW Breakouts
URL:https://aa-nia-dist43.org/event/panel-76-pregeneral-service-conference-workshop/
LOCATION:First Covenant Church\, 316 Wood Road\, Rockford\, IL\, 61107\, United States
END:VEVENT
BEGIN:VEVENT
DTSTART;TZID=America/Chicago:20260415T190000
DTEND;TZID=America/Chicago:20260415T200000
DTSTAMP:20260423T192008
CREATED:20260107T235549Z
LAST-MODIFIED:20260107T235549Z
UID:6025-1776279600-1776283200@aa-nia-dist43.org
SUMMARY:District 43 Business Meeting
DESCRIPTION:JOIN \nZoom ID: 965 6659 0236 \nPassword: 932879
URL:https://aa-nia-dist43.org/event/district-43-business-meeting-18/
LOCATION:IL
END:VEVENT
BEGIN:VEVENT
DTSTART;TZID=America/Chicago:20260418T180000
DTEND;TZID=America/Chicago:20260418T210000
DTSTAMP:20260423T192008
CREATED:20260201T213326Z
LAST-MODIFIED:20260221T175238Z
UID:6167-1776535200-1776546000@aa-nia-dist43.org
SUMMARY:District 43 Bingo Loco
DESCRIPTION:Glow Foam Sticks – Music\, Dancing\, Singing and oh… BINGO \nFLYER
URL:https://aa-nia-dist43.org/event/district-43-bingo-loco/
LOCATION:Community United Methodist Church\, 20 N. Center Street\, Naperville\, IL\, 60540\, United States
END:VEVENT
BEGIN:VEVENT
DTSTART;TZID=America/Chicago:20260425T080000
DTEND;TZID=America/Chicago:20260425T150000
DTSTAMP:20260423T192008
CREATED:20260330T220105Z
LAST-MODIFIED:20260405T153102Z
UID:6261-1777104000-1777129200@aa-nia-dist43.org
SUMMARY:Thursday Night Discussion Group Spring Retreat 2026
DESCRIPTION:Flyer
URL:https://aa-nia-dist43.org/event/thursday-night-discussion-group-spring-retreat-2026/
LOCATION:Our Savior Lutheran Church- Celebration Campus\, 919 S Washington Street\, Naperville\, IL\, 60540\, United States
END:VEVENT
BEGIN:VEVENT
DTSTART;VALUE=DATE:20260426
DTEND;VALUE=DATE:20260503
DTSTAMP:20260423T192008
CREATED:20260111T173453Z
LAST-MODIFIED:20260111T173453Z
UID:6077-1777161600-1777766399@aa-nia-dist43.org
SUMMARY:76th General Service Conference
DESCRIPTION:Our area delegate attends this annual event in New York.
URL:https://aa-nia-dist43.org/event/76th-general-service-conference/
LOCATION:IL
END:VEVENT
BEGIN:VEVENT
DTSTART;VALUE=DATE:20260508
DTEND;VALUE=DATE:20260511
DTSTAMP:20260423T192008
CREATED:20260215T195119Z
LAST-MODIFIED:20260215T195307Z
UID:6187-1778198400-1778457599@aa-nia-dist43.org
SUMMARY:44th Annual NE Indiana Convention & Banquet
DESCRIPTION:2026 NE Indiana Convention & Banquet Flyer
URL:https://aa-nia-dist43.org/event/44th-annual-ne-indiana-convention-banquet/
LOCATION:Grand Wayne Convention Center\, 120 W. Jefferson Blvd\, Fort Wayne\, IN\, 46802\, United States
END:VEVENT
BEGIN:VEVENT
DTSTART;TZID=America/Chicago:20260515T160000
DTEND;TZID=America/Chicago:20260517T120000
DTSTAMP:20260423T192008
CREATED:20260317T164311Z
LAST-MODIFIED:20260317T214342Z
UID:6226-1778860800-1779019200@aa-nia-dist43.org
SUMMARY:12 Step House Men’s Closed AA Retreat
DESCRIPTION:Flyer
URL:https://aa-nia-dist43.org/event/12-step-house-mens-closed-aa-retreat-4/
LOCATION:St Mary’s Retreat House\, 14230 Main St.\, Lemont\, IL\, 60439
END:VEVENT
BEGIN:VEVENT
DTSTART;TZID=America/Chicago:20260516T080000
DTEND;TZID=America/Chicago:20260516T150000
DTSTAMP:20260423T192009
CREATED:20260111T173226Z
LAST-MODIFIED:20260111T173226Z
UID:6075-1778918400-1778943600@aa-nia-dist43.org
SUMMARY:2026 NIA Area 20 Spring Committee Meeting
DESCRIPTION:
URL:https://aa-nia-dist43.org/event/2026-nia-area-20-spring-committee-meeting/
LOCATION:Lord of Life Lutheran Church\, 40W605 IL Rt 38\, Elburn\, IL\, United States
END:VEVENT
BEGIN:VEVENT
DTSTART;TZID=America/Chicago:20260516T190000
DTEND;TZID=America/Chicago:20260516T210000
DTSTAMP:20260423T192009
CREATED:20260119T220001Z
LAST-MODIFIED:20260119T220001Z
UID:6141-1778958000-1778965200@aa-nia-dist43.org
SUMMARY:Fox Valley Open
DESCRIPTION:Fox Valley Open Flyer
URL:https://aa-nia-dist43.org/event/fox-valley-open-2/
LOCATION:Lord of Life Lutheran Church\, 40W605 IL Rt 38\, Elburn\, IL\, United States
END:VEVENT
BEGIN:VEVENT
DTSTART;TZID=America/Chicago:20260520T190000
DTEND;TZID=America/Chicago:20260520T200000
DTSTAMP:20260423T192009
CREATED:20260107T235924Z
LAST-MODIFIED:20260108T000044Z
UID:6027-1779303600-1779307200@aa-nia-dist43.org
SUMMARY:District 43 Business Meeting
DESCRIPTION:JOIN \nZoom ID: 965 6659 0236 \nPassword: 932879
URL:https://aa-nia-dist43.org/event/district-43-business-meeting-19/
LOCATION:IL
END:VEVENT
BEGIN:VEVENT
DTSTART;TZID=America/Chicago:20260617T190000
DTEND;TZID=America/Chicago:20260617T200000
DTSTAMP:20260423T192009
CREATED:20260111T154521Z
LAST-MODIFIED:20260111T154521Z
UID:6030-1781722800-1781726400@aa-nia-dist43.org
SUMMARY:District 43 Business Meeting
DESCRIPTION:JOIN \nZoom ID: 965 6659 0236 \nPassword: 932879
URL:https://aa-nia-dist43.org/event/district-43-business-meeting-20/
LOCATION:IL
END:VEVENT
BEGIN:VEVENT
DTSTART;TZID=America/Chicago:20260620T080000
DTEND;TZID=America/Chicago:20260620T150000
DTSTAMP:20260423T192009
CREATED:20260111T173015Z
LAST-MODIFIED:20260111T173015Z
UID:6073-1781942400-1781967600@aa-nia-dist43.org
SUMMARY:2026 NIA Area 20 Summer Assembly: Attention GSRs: Attend this please
DESCRIPTION:Attention GSRs- Because this is a voting meeting your attendance or your alternate’s is needed at this assembly. Thank you!
URL:https://aa-nia-dist43.org/event/2026-nia-area-20-summer-assembly-attention-gsrs-attend-this-please/
LOCATION:IL
END:VEVENT
BEGIN:VEVENT
DTSTART;VALUE=DATE:20260626
DTEND;VALUE=DATE:20260629
DTSTAMP:20260423T192009
CREATED:20260119T220524Z
LAST-MODIFIED:20260119T220524Z
UID:6146-1782432000-1782691199@aa-nia-dist43.org
SUMMARY:2026 ECR & Area 72 Conference
DESCRIPTION:2026 ECR & Area 72 Conference Flyer
URL:https://aa-nia-dist43.org/event/2026-ecr-area-72-conference/
LOCATION:IL
END:VEVENT
BEGIN:VEVENT
DTSTART;TZID=America/Chicago:20260715T190000
DTEND;TZID=America/Chicago:20260715T200000
DTSTAMP:20260423T192009
CREATED:20260111T154802Z
LAST-MODIFIED:20260111T154802Z
UID:6033-1784142000-1784145600@aa-nia-dist43.org
SUMMARY:District 43 Business Meeting
DESCRIPTION:JOIN \nZoom ID: 965 6659 0236 \nPassword: 932879
URL:https://aa-nia-dist43.org/event/district-43-business-meeting-21/
LOCATION:IL
END:VEVENT
BEGIN:VEVENT
DTSTART;TZID=America/Chicago:20260801T080000
DTEND;TZID=America/Chicago:20260801T150000
DTSTAMP:20260423T192009
CREATED:20260111T172714Z
LAST-MODIFIED:20260111T172714Z
UID:6071-1785571200-1785596400@aa-nia-dist43.org
SUMMARY:2026 NIA 20 Area Summer Committee Meeting
DESCRIPTION:
URL:https://aa-nia-dist43.org/event/2026-nia-20-area-summer-committee-meeting/
LOCATION:Lord of Life Lutheran Church\, 40W605 IL Rt 38\, Elburn\, IL\, United States
END:VEVENT
BEGIN:VEVENT
DTSTART;TZID=America/Chicago:20260819T190000
DTEND;TZID=America/Chicago:20260819T200000
DTSTAMP:20260423T192009
CREATED:20260111T161533Z
LAST-MODIFIED:20260111T161533Z
UID:6051-1787166000-1787169600@aa-nia-dist43.org
SUMMARY:District 43 Business Meeting
DESCRIPTION:JOIN \nZoom ID: 965 6659 0236 \nPassword: 932879
URL:https://aa-nia-dist43.org/event/district-43-business-meeting-26/
LOCATION:IL
END:VEVENT
BEGIN:VEVENT
DTSTART;TZID=America/Chicago:20260829T133000
DTEND;TZID=America/Chicago:20260829T153000
DTSTAMP:20260423T192009
CREATED:20260330T220438Z
LAST-MODIFIED:20260330T220438Z
UID:6264-1788010200-1788017400@aa-nia-dist43.org
SUMMARY:District 43 Annual Picnic 2026
DESCRIPTION:Save the Date Flyer
URL:https://aa-nia-dist43.org/event/district-43-annual-picnic-2026/
LOCATION:DuPage River Walk Pavilion\, 800 Royce Road\, Naperville\, IL\, United States
END:VEVENT
BEGIN:VEVENT
DTSTART;TZID=America/Chicago:20260912T080000
DTEND;TZID=America/Chicago:20260912T150000
DTSTAMP:20260423T192009
CREATED:20260111T172046Z
LAST-MODIFIED:20260111T172046Z
UID:6066-1789200000-1789225200@aa-nia-dist43.org
SUMMARY:2026 NIA Area 20 Fall Assembly: Attention GSRs: Attend this please
DESCRIPTION:This is a voting assembly\, so GSRs or their alternates should attend. Zoom options will be available.
URL:https://aa-nia-dist43.org/event/2026-nia-area-20-fall-assembly-attention-gsrs-attend-this-please/
LOCATION:IL
END:VEVENT
BEGIN:VEVENT
DTSTART;TZID=America/Chicago:20260916T190000
DTEND;TZID=America/Chicago:20260916T200000
DTSTAMP:20260423T192009
CREATED:20260111T154946Z
LAST-MODIFIED:20260111T160534Z
UID:6037-1789585200-1789588800@aa-nia-dist43.org
SUMMARY:District 43 Business Meeting
DESCRIPTION:JOIN \nZoom ID: 965 6659 0236 \nPassword: 932879
URL:https://aa-nia-dist43.org/event/district-43-business-meeting-23/
LOCATION:IL
END:VEVENT
BEGIN:VEVENT
DTSTART;TZID=America/Chicago:20261003T080000
DTEND;TZID=America/Chicago:20261003T150000
DTSTAMP:20260423T192009
CREATED:20260111T171414Z
LAST-MODIFIED:20260111T171414Z
UID:6064-1791014400-1791039600@aa-nia-dist43.org
SUMMARY:2026 NIA Area 20: Fall Committee Meeting
DESCRIPTION:
URL:https://aa-nia-dist43.org/event/2026-nia-area-20-fall-committee-meeting/
LOCATION:Lord of Life Lutheran Church\, 40W605 IL Rt 38\, Elburn\, IL\, United States
END:VEVENT
BEGIN:VEVENT
DTSTART;TZID=America/Chicago:20261017T080000
DTEND;TZID=America/Chicago:20261017T161500
DTSTAMP:20260423T192009
CREATED:20260322T201655Z
LAST-MODIFIED:20260322T201808Z
UID:6241-1792224000-1792253700@aa-nia-dist43.org
SUMMARY:2026 Big Book Conference
DESCRIPTION:2026 Big Book Conference Flyer
URL:https://aa-nia-dist43.org/event/2026-big-book-conference/
LOCATION:Messiah Lutheran Chuch\, 25225 W. Ivanhoe Rd\, Wauconda\, IL\, 60084\, United States
ORGANIZER;CN="NIA 20 District 11":MAILTO:dcm@aa-nia-dist11.org
END:VEVENT
BEGIN:VEVENT
DTSTART;TZID=America/Chicago:20261021T190000
DTEND;TZID=America/Chicago:20261021T200000
DTSTAMP:20260423T192009
CREATED:20260111T155046Z
LAST-MODIFIED:20260113T140335Z
UID:6039-1792609200-1792612800@aa-nia-dist43.org
SUMMARY:District 43 Business Meeting
DESCRIPTION:JOIN \nZoom ID: 965 6659 0236 \nPassword: 932879
URL:https://aa-nia-dist43.org/event/district-43-business-meeting-24/
LOCATION:IL
END:VEVENT
BEGIN:VEVENT
DTSTART;TZID=America/Chicago:20261107T190000
DTEND;TZID=America/Chicago:20261107T210000
DTSTAMP:20260423T192009
CREATED:20260418T154128Z
LAST-MODIFIED:20260418T154128Z
UID:6491-1794078000-1794085200@aa-nia-dist43.org
SUMMARY:We are Not a Glum Lot Comedy Show
DESCRIPTION:Save the date Flyer
URL:https://aa-nia-dist43.org/event/we-are-not-a-glum-lot-comedy-show/
LOCATION:IL
END:VEVENT
BEGIN:VEVENT
DTSTART;TZID=America/Chicago:20261118T190000
DTEND;TZID=America/Chicago:20261118T200000
DTSTAMP:20260423T192009
CREATED:20260111T155137Z
LAST-MODIFIED:20260111T161038Z
UID:6041-1795028400-1795032000@aa-nia-dist43.org
SUMMARY:District 43 Business Meeting
DESCRIPTION:JOIN \nZoom ID: 965 6659 0236 \nPassword: 932879
URL:https://aa-nia-dist43.org/event/district-43-business-meeting-25/
LOCATION:IL
END:VEVENT
BEGIN:VEVENT
DTSTART;TZID=America/Chicago:20261212T080000
DTEND;TZID=America/Chicago:20261212T150000
DTSTAMP:20260423T192009
CREATED:20260111T171216Z
LAST-MODIFIED:20260111T172137Z
UID:6062-1797062400-1797087600@aa-nia-dist43.org
SUMMARY:NIA Area 20 Winter Assembly- Attention GSRs: Attend this please
DESCRIPTION:Attention GSRs: This is a voting Area Assembly and attendance is needed by GSRs or their alternates-mark your calendar!
URL:https://aa-nia-dist43.org/event/nia-area-20-winter-assembly-attention-gsrs-attendence-mandatory/
LOCATION:IL
END:VEVENT
END:VCALENDAR