BEGIN:VCALENDAR
VERSION:2.0
PRODID:-//Alcoholics Anonymous (N.I.A.20-District 43) - ECPv6.15.20//NONSGML v1.0//EN
CALSCALE:GREGORIAN
METHOD:PUBLISH
X-WR-CALNAME:Alcoholics Anonymous (N.I.A.20-District 43)
X-ORIGINAL-URL:https://aa-nia-dist43.org
X-WR-CALDESC:Events for Alcoholics Anonymous (N.I.A.20-District 43)
REFRESH-INTERVAL;VALUE=DURATION:PT1H
X-Robots-Tag:noindex
X-PUBLISHED-TTL:PT1H
BEGIN:VTIMEZONE
TZID:America/Chicago
BEGIN:DAYLIGHT
TZOFFSETFROM:-0600
TZOFFSETTO:-0500
TZNAME:CDT
DTSTART:20220313T080000
END:DAYLIGHT
BEGIN:STANDARD
TZOFFSETFROM:-0500
TZOFFSETTO:-0600
TZNAME:CST
DTSTART:20221106T070000
END:STANDARD
BEGIN:DAYLIGHT
TZOFFSETFROM:-0600
TZOFFSETTO:-0500
TZNAME:CDT
DTSTART:20230312T080000
END:DAYLIGHT
BEGIN:STANDARD
TZOFFSETFROM:-0500
TZOFFSETTO:-0600
TZNAME:CST
DTSTART:20231105T070000
END:STANDARD
BEGIN:DAYLIGHT
TZOFFSETFROM:-0600
TZOFFSETTO:-0500
TZNAME:CDT
DTSTART:20240310T080000
END:DAYLIGHT
BEGIN:STANDARD
TZOFFSETFROM:-0500
TZOFFSETTO:-0600
TZNAME:CST
DTSTART:20241103T070000
END:STANDARD
END:VTIMEZONE
BEGIN:VEVENT
DTSTART;TZID=America/Chicago:20230519T153000
DTEND;TZID=America/Chicago:20230521T103000
DTSTAMP:20260425T061704
CREATED:20230421T212901Z
LAST-MODIFIED:20230421T212901Z
UID:4450-1684510200-1684665000@aa-nia-dist43.org
SUMMARY:12 Step House Closed AA Men's Retreat
DESCRIPTION:Semi-annually since 1968\n$160 (room & meals)\n\nFlyer
URL:https://aa-nia-dist43.org/event/12-step-house-closed-aa-mens-retreat/
LOCATION:St Mary’s Retreat House\, 14230 Main St.\, Lemont\, IL\, 60439
END:VEVENT
BEGIN:VEVENT
DTSTART;TZID=America/Chicago:20230517T190000
DTEND;TZID=America/Chicago:20230517T200000
DTSTAMP:20260425T061704
CREATED:20230421T211554Z
LAST-MODIFIED:20230422T205016Z
UID:4446-1684350000-1684353600@aa-nia-dist43.org
SUMMARY:May '23 District Business Meeting
DESCRIPTION:Zoom ID: 965 6659 0236\nPassword: 932879\n\nJoin
URL:https://aa-nia-dist43.org/event/may-23-district-business-meeting/
ATTACH;FMTTYPE=image/png:https://aa-nia-dist43.org/wp-content/uploads/2022/09/new_cat7.png
END:VEVENT
BEGIN:VEVENT
DTSTART;TZID=America/Chicago:20230429T170000
DTEND;TZID=America/Chicago:20230429T200000
DTSTAMP:20260425T061705
CREATED:20230421T210759Z
LAST-MODIFIED:20230422T005337Z
UID:4442-1682787600-1682798400@aa-nia-dist43.org
SUMMARY:Spring Into Sobriety
DESCRIPTION:Open Beginner’s Meeting @ 5pm\nDinner @ 6pm\nOpen Speaker Meeting @ 7pm\nDonations Accepted\n\nFlyer
URL:https://aa-nia-dist43.org/event/spring-into-sobriety/
LOCATION:WSFC\, 710 E. Ogden\, Suite 430\, Naperville
END:VEVENT
END:VCALENDAR