BEGIN:VCALENDAR
VERSION:2.0
PRODID:-//Alcoholics Anonymous (N.I.A.20-District 43) - ECPv6.15.20//NONSGML v1.0//EN
CALSCALE:GREGORIAN
METHOD:PUBLISH
X-WR-CALNAME:Alcoholics Anonymous (N.I.A.20-District 43)
X-ORIGINAL-URL:https://aa-nia-dist43.org
X-WR-CALDESC:Events for Alcoholics Anonymous (N.I.A.20-District 43)
REFRESH-INTERVAL;VALUE=DURATION:PT1H
X-Robots-Tag:noindex
X-PUBLISHED-TTL:PT1H
BEGIN:VTIMEZONE
TZID:America/Chicago
BEGIN:DAYLIGHT
TZOFFSETFROM:-0600
TZOFFSETTO:-0500
TZNAME:CDT
DTSTART:20230312T080000
END:DAYLIGHT
BEGIN:STANDARD
TZOFFSETFROM:-0500
TZOFFSETTO:-0600
TZNAME:CST
DTSTART:20231105T070000
END:STANDARD
BEGIN:DAYLIGHT
TZOFFSETFROM:-0600
TZOFFSETTO:-0500
TZNAME:CDT
DTSTART:20240310T080000
END:DAYLIGHT
BEGIN:STANDARD
TZOFFSETFROM:-0500
TZOFFSETTO:-0600
TZNAME:CST
DTSTART:20241103T070000
END:STANDARD
BEGIN:DAYLIGHT
TZOFFSETFROM:-0600
TZOFFSETTO:-0500
TZNAME:CDT
DTSTART:20250309T080000
END:DAYLIGHT
BEGIN:STANDARD
TZOFFSETFROM:-0500
TZOFFSETTO:-0600
TZNAME:CST
DTSTART:20251102T070000
END:STANDARD
BEGIN:DAYLIGHT
TZOFFSETFROM:-0600
TZOFFSETTO:-0500
TZNAME:CDT
DTSTART:20260308T080000
END:DAYLIGHT
BEGIN:STANDARD
TZOFFSETFROM:-0500
TZOFFSETTO:-0600
TZNAME:CST
DTSTART:20261101T070000
END:STANDARD
END:VTIMEZONE
BEGIN:VEVENT
DTSTART;TZID=America/Chicago:20250115T190000
DTEND;TZID=America/Chicago:20250115T200000
DTSTAMP:20260423T183426
CREATED:20241217T213124Z
LAST-MODIFIED:20241217T213124Z
UID:5650-1736967600-1736971200@aa-nia-dist43.org
SUMMARY:District 43 Business Meeting
DESCRIPTION:Zoom ID: 965 6659 0236 \nPassword: 932879 \nJOIN
URL:https://aa-nia-dist43.org/event/district-43-business-meeting-3/
LOCATION:IL
END:VEVENT
BEGIN:VEVENT
DTSTART;TZID=America/Chicago:20241218T190000
DTEND;TZID=America/Chicago:20241218T200000
DTSTAMP:20260423T183426
CREATED:20240104T185939Z
LAST-MODIFIED:20241217T215129Z
UID:5262-1734548400-1734552000@aa-nia-dist43.org
SUMMARY:District Business Meeting
DESCRIPTION:D43 Biz Mtg Flyer 2024 \nZoom ID: 965 6659 0236 \nPassword: 932879 \nJOIN
URL:https://aa-nia-dist43.org/event/district-business-meeting-8/
LOCATION:IL
END:VEVENT
BEGIN:VEVENT
DTSTART;TZID=America/Chicago:20241214T080000
DTEND;TZID=America/Chicago:20241214T150000
DTSTAMP:20260423T183426
CREATED:20241118T214514Z
LAST-MODIFIED:20241118T214514Z
UID:5609-1734163200-1734188400@aa-nia-dist43.org
SUMMARY:NIA 20 2024 Winter Assembly
DESCRIPTION:Winter Assembly Flyer \nIn-person or on Zoom \nRegister for the meeting and you will receive the Zoom link.
URL:https://aa-nia-dist43.org/event/nia-20-2024-winter-assembly/
LOCATION:Lord of Life Lutheran Church\, 40W605 IL Rt 38\, Elburn\, IL\, United States
END:VEVENT
BEGIN:VEVENT
DTSTART;TZID=America/Chicago:20241208T073000
DTEND;TZID=America/Chicago:20241208T083000
DTSTAMP:20260423T183426
CREATED:20241124T232013Z
LAST-MODIFIED:20241206T205459Z
UID:5627-1733643000-1733646600@aa-nia-dist43.org
SUMMARY:The Walk Step Meeting
DESCRIPTION:The Walk Step Meeting flyer
URL:https://aa-nia-dist43.org/event/the-walk-step-meeting/
LOCATION:Naperville Riverfront Gazebo\, 320 Jackson Avenue\, Naperville\, IL\, 60540\, United States
END:VEVENT
BEGIN:VEVENT
DTSTART;TZID=America/Chicago:20241128T113000
DTEND;TZID=America/Chicago:20241128T143000
DTSTAMP:20260423T183426
CREATED:20241121T021125Z
LAST-MODIFIED:20241121T022020Z
UID:5614-1732793400-1732804200@aa-nia-dist43.org
SUMMARY:Gratitude Dinner and Event
DESCRIPTION:WSFC website
URL:https://aa-nia-dist43.org/event/gratitude-dinner-and-event/
LOCATION:WSFC\, 710 E. Ogden\, Suite 430\, Naperville
END:VEVENT
BEGIN:VEVENT
DTSTART;TZID=America/Chicago:20241128T081500
DTEND;TZID=America/Chicago:20241128T095500
DTSTAMP:20260423T183426
CREATED:20241121T020828Z
LAST-MODIFIED:20241121T021804Z
UID:5611-1732781700-1732787700@aa-nia-dist43.org
SUMMARY:Hybrid Gratitude Meeting
DESCRIPTION:Zoom Meeting ID 710 610 1935 \nPassword 61035 \nWSFC website
URL:https://aa-nia-dist43.org/event/hybrid-gratitude-meeting/
LOCATION:WSFC\, 710 E. Ogden\, Suite 430\, Naperville
END:VEVENT
BEGIN:VEVENT
DTSTART;TZID=America/Chicago:20241120T190000
DTEND;TZID=America/Chicago:20241120T200000
DTSTAMP:20260423T183426
CREATED:20240104T185751Z
LAST-MODIFIED:20240522T161135Z
UID:5260-1732129200-1732132800@aa-nia-dist43.org
SUMMARY:District Business Meeting
DESCRIPTION:D43 Biz Mtg Flyer 2024 \nZoom ID: 965 6659 0236 \nPassword: 932879 \nJOIN
URL:https://aa-nia-dist43.org/event/district-business-meeting-7/
LOCATION:IL
END:VEVENT
BEGIN:VEVENT
DTSTART;TZID=America/Chicago:20241113T190000
DTEND;TZID=America/Chicago:20241113T200000
DTSTAMP:20260423T183426
CREATED:20241101T165046Z
LAST-MODIFIED:20241101T165046Z
UID:5603-1731524400-1731528000@aa-nia-dist43.org
SUMMARY:NIA 20 Corrections Meeting
DESCRIPTION:NIA 20 Corrections Meeting \nZoom Meeting ID: 823 2846 9162 \nPasscode: 061035\n 
URL:https://aa-nia-dist43.org/event/nia-20-corrections-meeting/
LOCATION:IL
END:VEVENT
BEGIN:VEVENT
DTSTART;TZID=America/Chicago:20241109T090000
DTEND;TZID=America/Chicago:20241109T153000
DTSTAMP:20260423T183426
CREATED:20240917T020006Z
LAST-MODIFIED:20240917T020334Z
UID:5553-1731142800-1731166200@aa-nia-dist43.org
SUMMARY:NIA 20 2024 Big Book Conference
DESCRIPTION:Big book conference flyer and registration information \nRegistration $15\, box lunch available for $15 (pre-order by October 15) \nevent website
URL:https://aa-nia-dist43.org/event/nia-20-2024-big-book-conference/
LOCATION:First Covenant Church\, 316 Wood Road\, Rockford\, IL\, 61107\, United States
END:VEVENT
BEGIN:VEVENT
DTSTART;TZID=America/Chicago:20241025T153000
DTEND;TZID=America/Chicago:20241027T100000
DTSTAMP:20260423T183426
CREATED:20240917T015054Z
LAST-MODIFIED:20240917T015303Z
UID:5548-1729870200-1730023200@aa-nia-dist43.org
SUMMARY:12 Step House Men's Closed AA Retreat
DESCRIPTION:Retreat flyer and registration information
URL:https://aa-nia-dist43.org/event/12-step-house-mens-closed-aa-retreat-2/
LOCATION:St Mary’s Retreat House\, 14230 Main St.\, Lemont\, IL\, 60439
END:VEVENT
BEGIN:VEVENT
DTSTART;TZID=America/Chicago:20241020T120000
DTEND;TZID=America/Chicago:20241020T150000
DTSTAMP:20260423T183426
CREATED:20240929T201934Z
LAST-MODIFIED:20240929T202610Z
UID:5578-1729425600-1729436400@aa-nia-dist43.org
SUMMARY:District 43 Fall Picnic
DESCRIPTION:Rescheduled District Picnic Flyer
URL:https://aa-nia-dist43.org/event/district-43-fall-picnic/
LOCATION:DuPage River Park\, 808 Royce Road\, Bolingbrook\, United States
ORGANIZER;CN="District 43 Events Committee":MAILTO:events@aa-nia-dist43.org
END:VEVENT
BEGIN:VEVENT
DTSTART;TZID=America/Chicago:20241019T080000
DTEND;TZID=America/Chicago:20241019T150000
DTSTAMP:20260423T183426
CREATED:20240919T005329Z
LAST-MODIFIED:20241013T205357Z
UID:5563-1729324800-1729350000@aa-nia-dist43.org
SUMMARY:Fall Committee Meeting
DESCRIPTION:2024 October Fall Committee Meeting Agenda
URL:https://aa-nia-dist43.org/event/fall-committee-meeting/
LOCATION:Lord of Life Lutheran Church\, 40W605 IL Rt 38\, Elburn\, IL\, United States
END:VEVENT
BEGIN:VEVENT
DTSTART;TZID=America/Chicago:20241016T190000
DTEND;TZID=America/Chicago:20241016T200000
DTSTAMP:20260423T183426
CREATED:20240104T185622Z
LAST-MODIFIED:20240522T161009Z
UID:5258-1729105200-1729108800@aa-nia-dist43.org
SUMMARY:District Business Meeting
DESCRIPTION:D43 Biz Mtg Flyer 2024 \nZoom ID: 965 6659 0236 \nPassword: 932879 \nJOIN
URL:https://aa-nia-dist43.org/event/district-business-meeting-6/
LOCATION:IL
END:VEVENT
BEGIN:VEVENT
DTSTART;VALUE=DATE:20240922
DTEND;VALUE=DATE:20240923
DTSTAMP:20260423T183426
CREATED:20240619T200723Z
LAST-MODIFIED:20240921T184536Z
UID:5435-1726963200-1727049599@aa-nia-dist43.org
SUMMARY:CANCELLED - District 43 Picnic
DESCRIPTION:Due to the forecast of rain\, the District 43 picnic has been cancelled.
URL:https://aa-nia-dist43.org/event/district-43-picnic-2/
LOCATION:IL
END:VEVENT
BEGIN:VEVENT
DTSTART;TZID=America/Chicago:20240918T190000
DTEND;TZID=America/Chicago:20240918T200000
DTSTAMP:20260423T183426
CREATED:20240104T185412Z
LAST-MODIFIED:20240522T160356Z
UID:5256-1726686000-1726689600@aa-nia-dist43.org
SUMMARY:District Business Meeting
DESCRIPTION:D43 Biz Mtg Flyer 2024 \nZoom ID: 965 6659 0236 \nPassword: 932879 \nJOIN
URL:https://aa-nia-dist43.org/event/district-business-meeting-5/
LOCATION:IL
END:VEVENT
BEGIN:VEVENT
DTSTART;VALUE=DATE:20240823
DTEND;VALUE=DATE:20240826
DTSTAMP:20260423T183426
CREATED:20240715T204730Z
LAST-MODIFIED:20240715T205105Z
UID:5494-1724371200-1724630399@aa-nia-dist43.org
SUMMARY:2024 Illinois State Conference
DESCRIPTION:2024 Illinois State Conference \nEvent website: https://istc2024.wixsite.com/registration
URL:https://aa-nia-dist43.org/event/2024-illinois-state-conference/
LOCATION:Northfield Inn and Suites\, 3280 Northfield Drive\, Springfield\, IL\, 62702\, United States
END:VEVENT
BEGIN:VEVENT
DTSTART;TZID=America/Chicago:20240821T190000
DTEND;TZID=America/Chicago:20240821T200000
DTSTAMP:20260423T183426
CREATED:20240104T185100Z
LAST-MODIFIED:20240522T160206Z
UID:5252-1724266800-1724270400@aa-nia-dist43.org
SUMMARY:District Business Meeting
DESCRIPTION:D43 Biz Mtg Flyer 2024 \nZoom ID: 965 6659 0236 \nPassword: 932879 \nJOIN
URL:https://aa-nia-dist43.org/event/district-business-meeting-4/
LOCATION:IL
END:VEVENT
BEGIN:VEVENT
DTSTART;TZID=America/Chicago:20240817T133000
DTEND;TZID=America/Chicago:20240817T160000
DTSTAMP:20260423T183426
CREATED:20240718T151218Z
LAST-MODIFIED:20240718T151218Z
UID:5502-1723901400-1723910400@aa-nia-dist43.org
SUMMARY:Archives Workshop District 43 - A Timeline
DESCRIPTION:Timeline Workshop flyer \nThis event will be in person and on Zoom \nZoom I.D. 7106101935  PW: 61035 \nPizza will be served.
URL:https://aa-nia-dist43.org/event/archives-workshop-district-43-a-timeline/
LOCATION:WSFC\, 710 E. Ogden\, Suite 430\, Naperville
END:VEVENT
BEGIN:VEVENT
DTSTART;TZID=America/Chicago:20240803T080000
DTEND;TZID=America/Chicago:20240803T150000
DTSTAMP:20260423T183426
CREATED:20240715T205509Z
LAST-MODIFIED:20240715T205509Z
UID:5498-1722672000-1722697200@aa-nia-dist43.org
SUMMARY:2024 Summer Committee Meeting
DESCRIPTION:NIA 20 Summer Committee Agenda \nMeeting will also be available on Zoom. Register using the link above\, and you will receive an email from Zoom to join the meeting.
URL:https://aa-nia-dist43.org/event/2024-summer-committee-meeting/
LOCATION:Lord of Life Lutheran Church\, 40W605 IL Rt 38\, Elburn\, IL\, United States
END:VEVENT
BEGIN:VEVENT
DTSTART;TZID=America/Chicago:20240717T190000
DTEND;TZID=America/Chicago:20240717T200000
DTSTAMP:20260423T183426
CREATED:20240104T184919Z
LAST-MODIFIED:20240623T180140Z
UID:5250-1721242800-1721246400@aa-nia-dist43.org
SUMMARY:District Business Meeting
DESCRIPTION:Bring Your Sponsee to District July 2024 \nD43 Biz Mtg Flyer 2024 \nZoom ID: 965 6659 0236 \nPassword: 932879 \nJOIN
URL:https://aa-nia-dist43.org/event/district-business-meeting-3/
LOCATION:IL
END:VEVENT
BEGIN:VEVENT
DTSTART;TZID=America/Chicago:20240629T180000
DTEND;TZID=America/Chicago:20240629T210000
DTSTAMP:20260423T183426
CREATED:20240423T192002Z
LAST-MODIFIED:20240423T192002Z
UID:5394-1719684000-1719694800@aa-nia-dist43.org
SUMMARY:District 43 Trivia Night
DESCRIPTION:Trivia night June 29 2024 2nd annual
URL:https://aa-nia-dist43.org/event/district-43-trivia-night/
LOCATION:Community United Methodist Church\, 20 N. Center Street\, Naperville\, IL\, 60540\, United States
END:VEVENT
BEGIN:VEVENT
DTSTART;TZID=America/Chicago:20240622T080000
DTEND;TZID=America/Chicago:20240622T150000
DTSTAMP:20260423T183426
CREATED:20240621T210302Z
LAST-MODIFIED:20240621T210302Z
UID:5442-1719043200-1719068400@aa-nia-dist43.org
SUMMARY:NIA Summer Assembly
DESCRIPTION:Summer Assembly Flyer \n8:00 am fellowship \n9:00 am assembly \nlunch $12\, order must be in by 9:00 am \nCall Dan with questions 224-605-1673
URL:https://aa-nia-dist43.org/event/nia-summer-assembly/
LOCATION:First Congregational Church\, 461 Pierson Street\, Crystal Lake\, 60014
END:VEVENT
BEGIN:VEVENT
DTSTART;TZID=America/Chicago:20240619T190000
DTEND;TZID=America/Chicago:20240619T200000
DTSTAMP:20260423T183426
CREATED:20240104T184423Z
LAST-MODIFIED:20240522T155534Z
UID:5248-1718823600-1718827200@aa-nia-dist43.org
SUMMARY:District Business Meeting
DESCRIPTION:D43 Biz Mtg Flyer 2024 \nZoom ID: 965 6659 0236 \nPassword: 932879 \nJOIN \n 
URL:https://aa-nia-dist43.org/event/district-business-meeting-2/
LOCATION:IL
END:VEVENT
BEGIN:VEVENT
DTSTART;TZID=America/Chicago:20240518T080000
DTEND;TZID=America/Chicago:20240518T150000
DTSTAMP:20260423T183426
CREATED:20240417T205147Z
LAST-MODIFIED:20240417T205328Z
UID:5380-1716019200-1716044400@aa-nia-dist43.org
SUMMARY:NIA 20 Spring Committee Meeting
DESCRIPTION:Zoom information
URL:https://aa-nia-dist43.org/event/nia-20-spring-committee-meeting/
LOCATION:Lord of Life Lutheran Church\, 40W605 IL Rt 38\, Elburn\, IL\, United States
END:VEVENT
BEGIN:VEVENT
DTSTART;TZID=America/Chicago:20240517T153000
DTEND;TZID=America/Chicago:20240519T100000
DTSTAMP:20260423T183426
CREATED:20240417T210619Z
LAST-MODIFIED:20240417T210619Z
UID:5384-1715959800-1716112800@aa-nia-dist43.org
SUMMARY:12 Step House Men's Closed AA Retreat
DESCRIPTION:Retreat.flyer 05 -17-19 2024
URL:https://aa-nia-dist43.org/event/12-step-house-mens-closed-aa-retreat/
LOCATION:St Mary’s Retreat House\, 14230 Main St.\, Lemont\, IL\, 60439
END:VEVENT
BEGIN:VEVENT
DTSTART;TZID=America/Chicago:20240515T190000
DTEND;TZID=America/Chicago:20240515T200000
DTSTAMP:20260423T183426
CREATED:20240104T184231Z
LAST-MODIFIED:20240104T184231Z
UID:5246-1715799600-1715803200@aa-nia-dist43.org
SUMMARY:District Business Meeting
DESCRIPTION:Zoom ID: 965 6659 0236 \nPassword: 932879 \nJOIN
URL:https://aa-nia-dist43.org/event/district-business-meeting/
LOCATION:IL
END:VEVENT
BEGIN:VEVENT
DTSTART;TZID=America/Chicago:20240511T190000
DTEND;TZID=America/Chicago:20240511T213000
DTSTAMP:20260423T183426
CREATED:20240216T205446Z
LAST-MODIFIED:20240216T205446Z
UID:5320-1715454000-1715463000@aa-nia-dist43.org
SUMMARY:Fox Valley Open
DESCRIPTION:fox-valley-open-2024-1 \n3 speakers – Ry C.\, Aurora\, Chuck S.\, Elgin\, Kelly K.\, St. Charles
URL:https://aa-nia-dist43.org/event/fox-valley-open/
LOCATION:Lord of Life Lutheran Church\, 40W605 IL Rt 38\, Elburn\, IL\, United States
END:VEVENT
BEGIN:VEVENT
DTSTART;TZID=America/Chicago:20240504T133000
DTEND;TZID=America/Chicago:20240504T153000
DTSTAMP:20260423T183426
CREATED:20240411T220613Z
LAST-MODIFIED:20240411T220807Z
UID:5376-1714829400-1714836600@aa-nia-dist43.org
SUMMARY:District 43 - A Timeline Archives Workshop
DESCRIPTION:Timeline Workshop Flyer  \nPizza will be served. \nEvent will be on Zoom as well as in person. \nZoom ID 7106101935 PW 61035
URL:https://aa-nia-dist43.org/event/district-43-a-timeline-archives-workshop/
LOCATION:WSFC\, 710 E. Ogden\, Suite 430\, Naperville
END:VEVENT
BEGIN:VEVENT
DTSTART;TZID=America/Chicago:20240420T180000
DTEND;TZID=America/Chicago:20240420T210000
DTSTAMP:20260423T183426
CREATED:20240215T202043Z
LAST-MODIFIED:20240303T181214Z
UID:5306-1713636000-1713646800@aa-nia-dist43.org
SUMMARY:AA District 43 Bingo Night
DESCRIPTION:Bingo Night Flyer \nBingo games\, pizza\, snacks\, sparkling and still water
URL:https://aa-nia-dist43.org/event/aa-district-43-bingo-night/
LOCATION:Community United Methodist Church\, 20 N. Center Street\, Naperville\, IL\, 60540\, United States
END:VEVENT
BEGIN:VEVENT
DTSTART;TZID=America/Chicago:20240417T190000
DTEND;TZID=America/Chicago:20240417T200000
DTSTAMP:20260423T183426
CREATED:20240104T171312Z
LAST-MODIFIED:20240104T171426Z
UID:5243-1713380400-1713384000@aa-nia-dist43.org
SUMMARY:District 43 Business Meeting
DESCRIPTION:Zoom ID: 965 6659 0236 \nPassword: 932879 \nJOIN
URL:https://aa-nia-dist43.org/event/district-43-business-meeting-2/
LOCATION:IL
END:VEVENT
END:VCALENDAR