BEGIN:VCALENDAR
VERSION:2.0
PRODID:-//Alcoholics Anonymous (N.I.A.20-District 43) - ECPv6.15.20//NONSGML v1.0//EN
CALSCALE:GREGORIAN
METHOD:PUBLISH
X-WR-CALNAME:Alcoholics Anonymous (N.I.A.20-District 43)
X-ORIGINAL-URL:https://aa-nia-dist43.org
X-WR-CALDESC:Events for Alcoholics Anonymous (N.I.A.20-District 43)
REFRESH-INTERVAL;VALUE=DURATION:PT1H
X-Robots-Tag:noindex
X-PUBLISHED-TTL:PT1H
BEGIN:VTIMEZONE
TZID:America/Chicago
BEGIN:DAYLIGHT
TZOFFSETFROM:-0600
TZOFFSETTO:-0500
TZNAME:CDT
DTSTART:20220313T080000
END:DAYLIGHT
BEGIN:STANDARD
TZOFFSETFROM:-0500
TZOFFSETTO:-0600
TZNAME:CST
DTSTART:20221106T070000
END:STANDARD
BEGIN:DAYLIGHT
TZOFFSETFROM:-0600
TZOFFSETTO:-0500
TZNAME:CDT
DTSTART:20230312T080000
END:DAYLIGHT
BEGIN:STANDARD
TZOFFSETFROM:-0500
TZOFFSETTO:-0600
TZNAME:CST
DTSTART:20231105T070000
END:STANDARD
BEGIN:DAYLIGHT
TZOFFSETFROM:-0600
TZOFFSETTO:-0500
TZNAME:CDT
DTSTART:20240310T080000
END:DAYLIGHT
BEGIN:STANDARD
TZOFFSETFROM:-0500
TZOFFSETTO:-0600
TZNAME:CST
DTSTART:20241103T070000
END:STANDARD
BEGIN:DAYLIGHT
TZOFFSETFROM:-0600
TZOFFSETTO:-0500
TZNAME:CDT
DTSTART:20250309T080000
END:DAYLIGHT
BEGIN:STANDARD
TZOFFSETFROM:-0500
TZOFFSETTO:-0600
TZNAME:CST
DTSTART:20251102T070000
END:STANDARD
END:VTIMEZONE
BEGIN:VEVENT
DTSTART;TZID=America/Chicago:20240803T080000
DTEND;TZID=America/Chicago:20240803T150000
DTSTAMP:20260424T001547
CREATED:20240715T205509Z
LAST-MODIFIED:20240715T205509Z
UID:5498-1722672000-1722697200@aa-nia-dist43.org
SUMMARY:2024 Summer Committee Meeting
DESCRIPTION:NIA 20 Summer Committee Agenda \nMeeting will also be available on Zoom. Register using the link above\, and you will receive an email from Zoom to join the meeting.
URL:https://aa-nia-dist43.org/event/2024-summer-committee-meeting/
LOCATION:Lord of Life Lutheran Church\, 40W605 IL Rt 38\, Elburn\, IL\, United States
END:VEVENT
BEGIN:VEVENT
DTSTART;TZID=America/Chicago:20240717T190000
DTEND;TZID=America/Chicago:20240717T200000
DTSTAMP:20260424T001547
CREATED:20240104T184919Z
LAST-MODIFIED:20240623T180140Z
UID:5250-1721242800-1721246400@aa-nia-dist43.org
SUMMARY:District Business Meeting
DESCRIPTION:Bring Your Sponsee to District July 2024 \nD43 Biz Mtg Flyer 2024 \nZoom ID: 965 6659 0236 \nPassword: 932879 \nJOIN
URL:https://aa-nia-dist43.org/event/district-business-meeting-3/
END:VEVENT
BEGIN:VEVENT
DTSTART;TZID=America/Chicago:20240629T180000
DTEND;TZID=America/Chicago:20240629T210000
DTSTAMP:20260424T001547
CREATED:20240423T192002Z
LAST-MODIFIED:20240423T192002Z
UID:5394-1719684000-1719694800@aa-nia-dist43.org
SUMMARY:District 43 Trivia Night
DESCRIPTION:Trivia night June 29 2024 2nd annual
URL:https://aa-nia-dist43.org/event/district-43-trivia-night/
LOCATION:Community United Methodist Church\, 20 N. Center Street\, Naperville\, IL\, 60540\, United States
END:VEVENT
BEGIN:VEVENT
DTSTART;TZID=America/Chicago:20240622T080000
DTEND;TZID=America/Chicago:20240622T150000
DTSTAMP:20260424T001547
CREATED:20240621T210302Z
LAST-MODIFIED:20240621T210302Z
UID:5442-1719043200-1719068400@aa-nia-dist43.org
SUMMARY:NIA Summer Assembly
DESCRIPTION:Summer Assembly Flyer \n8:00 am fellowship \n9:00 am assembly \nlunch $12\, order must be in by 9:00 am \nCall Dan with questions 224-605-1673
URL:https://aa-nia-dist43.org/event/nia-summer-assembly/
LOCATION:First Congregational Church\, 461 Pierson Street\, Crystal Lake\, 60014
END:VEVENT
BEGIN:VEVENT
DTSTART;TZID=America/Chicago:20240619T190000
DTEND;TZID=America/Chicago:20240619T200000
DTSTAMP:20260424T001547
CREATED:20240104T184423Z
LAST-MODIFIED:20240522T155534Z
UID:5248-1718823600-1718827200@aa-nia-dist43.org
SUMMARY:District Business Meeting
DESCRIPTION:D43 Biz Mtg Flyer 2024 \nZoom ID: 965 6659 0236 \nPassword: 932879 \nJOIN \n 
URL:https://aa-nia-dist43.org/event/district-business-meeting-2/
END:VEVENT
BEGIN:VEVENT
DTSTART;TZID=America/Chicago:20240518T080000
DTEND;TZID=America/Chicago:20240518T150000
DTSTAMP:20260424T001547
CREATED:20240417T205147Z
LAST-MODIFIED:20240417T205328Z
UID:5380-1716019200-1716044400@aa-nia-dist43.org
SUMMARY:NIA 20 Spring Committee Meeting
DESCRIPTION:Zoom information
URL:https://aa-nia-dist43.org/event/nia-20-spring-committee-meeting/
LOCATION:Lord of Life Lutheran Church\, 40W605 IL Rt 38\, Elburn\, IL\, United States
END:VEVENT
BEGIN:VEVENT
DTSTART;TZID=America/Chicago:20240517T153000
DTEND;TZID=America/Chicago:20240519T100000
DTSTAMP:20260424T001547
CREATED:20240417T210619Z
LAST-MODIFIED:20240417T210619Z
UID:5384-1715959800-1716112800@aa-nia-dist43.org
SUMMARY:12 Step House Men's Closed AA Retreat
DESCRIPTION:Retreat.flyer 05 -17-19 2024
URL:https://aa-nia-dist43.org/event/12-step-house-mens-closed-aa-retreat/
LOCATION:St Mary’s Retreat House\, 14230 Main St.\, Lemont\, IL\, 60439
END:VEVENT
BEGIN:VEVENT
DTSTART;TZID=America/Chicago:20240515T190000
DTEND;TZID=America/Chicago:20240515T200000
DTSTAMP:20260424T001547
CREATED:20240104T184231Z
LAST-MODIFIED:20240104T184231Z
UID:5246-1715799600-1715803200@aa-nia-dist43.org
SUMMARY:District Business Meeting
DESCRIPTION:Zoom ID: 965 6659 0236 \nPassword: 932879 \nJOIN
URL:https://aa-nia-dist43.org/event/district-business-meeting/
END:VEVENT
BEGIN:VEVENT
DTSTART;TZID=America/Chicago:20240511T190000
DTEND;TZID=America/Chicago:20240511T213000
DTSTAMP:20260424T001547
CREATED:20240216T205446Z
LAST-MODIFIED:20240216T205446Z
UID:5320-1715454000-1715463000@aa-nia-dist43.org
SUMMARY:Fox Valley Open
DESCRIPTION:fox-valley-open-2024-1 \n3 speakers – Ry C.\, Aurora\, Chuck S.\, Elgin\, Kelly K.\, St. Charles
URL:https://aa-nia-dist43.org/event/fox-valley-open/
LOCATION:Lord of Life Lutheran Church\, 40W605 IL Rt 38\, Elburn\, IL\, United States
END:VEVENT
BEGIN:VEVENT
DTSTART;TZID=America/Chicago:20240504T133000
DTEND;TZID=America/Chicago:20240504T153000
DTSTAMP:20260424T001547
CREATED:20240411T220613Z
LAST-MODIFIED:20240411T220807Z
UID:5376-1714829400-1714836600@aa-nia-dist43.org
SUMMARY:District 43 - A Timeline Archives Workshop
DESCRIPTION:Timeline Workshop Flyer  \nPizza will be served. \nEvent will be on Zoom as well as in person. \nZoom ID 7106101935 PW 61035
URL:https://aa-nia-dist43.org/event/district-43-a-timeline-archives-workshop/
LOCATION:WSFC\, 710 E. Ogden\, Suite 430\, Naperville
END:VEVENT
BEGIN:VEVENT
DTSTART;TZID=America/Chicago:20240420T180000
DTEND;TZID=America/Chicago:20240420T210000
DTSTAMP:20260424T001547
CREATED:20240215T202043Z
LAST-MODIFIED:20240303T181214Z
UID:5306-1713636000-1713646800@aa-nia-dist43.org
SUMMARY:AA District 43 Bingo Night
DESCRIPTION:Bingo Night Flyer \nBingo games\, pizza\, snacks\, sparkling and still water
URL:https://aa-nia-dist43.org/event/aa-district-43-bingo-night/
LOCATION:Community United Methodist Church\, 20 N. Center Street\, Naperville\, IL\, 60540\, United States
END:VEVENT
BEGIN:VEVENT
DTSTART;TZID=America/Chicago:20240417T190000
DTEND;TZID=America/Chicago:20240417T200000
DTSTAMP:20260424T001547
CREATED:20240104T171312Z
LAST-MODIFIED:20240104T171426Z
UID:5243-1713380400-1713384000@aa-nia-dist43.org
SUMMARY:District 43 Business Meeting
DESCRIPTION:Zoom ID: 965 6659 0236 \nPassword: 932879 \nJOIN
URL:https://aa-nia-dist43.org/event/district-43-business-meeting-2/
END:VEVENT
BEGIN:VEVENT
DTSTART;TZID=America/Chicago:20240323T080000
DTEND;TZID=America/Chicago:20240323T150000
DTSTAMP:20260424T001547
CREATED:20240303T183701Z
LAST-MODIFIED:20240303T183701Z
UID:5342-1711180800-1711206000@aa-nia-dist43.org
SUMMARY:NIA 20 Pre-General Service Conference Workshop
DESCRIPTION:2024 PreGeneral Service Conference Workshop Flyer \n2024 General Service Conference Agenda Items w Highlights \nHosted by District 23
URL:https://aa-nia-dist43.org/event/nia-20-pre-general-service-conference-workshop/
LOCATION:Lord of Life Lutheran Church\, 40W605 IL Rt 38\, Elburn\, IL\, United States
END:VEVENT
BEGIN:VEVENT
DTSTART;TZID=America/Chicago:20240320T190000
DTEND;TZID=America/Chicago:20240320T200000
DTSTAMP:20260424T001547
CREATED:20240104T171023Z
LAST-MODIFIED:20240104T171023Z
UID:5241-1710961200-1710964800@aa-nia-dist43.org
SUMMARY:District 43 Meeting
DESCRIPTION:Zoom ID: 965 6659 0236 \nPassword: 932879 \nJOIN
URL:https://aa-nia-dist43.org/event/district-43-meeting-2/
END:VEVENT
BEGIN:VEVENT
DTSTART;TZID=America/Chicago:20240314T193000
DTEND;TZID=America/Chicago:20240314T203000
DTSTAMP:20260424T001547
CREATED:20240314T162831Z
LAST-MODIFIED:20240314T162831Z
UID:5351-1710444600-1710448200@aa-nia-dist43.org
SUMMARY:Legacy of Service: A.A. Service Manual & Concepts Study
DESCRIPTION:On Zoom every 2nd Thursday 7:30-8:30 \nLegacy of Service Flyer – Every 2nd Thursday Zoom
URL:https://aa-nia-dist43.org/event/legacy-of-service-a-a-service-manual-concepts-study/
ORGANIZER;CN="NIA 20 District 11":MAILTO:dcm@aa-nia-dist11.org
END:VEVENT
BEGIN:VEVENT
DTSTART;TZID=America/Chicago:20240302T080000
DTEND;TZID=America/Chicago:20240302T150000
DTSTAMP:20260424T001547
CREATED:20240215T205536Z
LAST-MODIFIED:20240215T205536Z
UID:5311-1709366400-1709391600@aa-nia-dist43.org
SUMMARY:NIA Spring Assembly
DESCRIPTION:03-02-24 NIA Spring Assembly Flyer \nRegister for Conference and for lunch
URL:https://aa-nia-dist43.org/event/nia-spring-assembly/
LOCATION:Hyatt Regency Schaumburg\, 1800 East Golf Road\, Schaumburg\, IL\, 60173\, United States
END:VEVENT
BEGIN:VEVENT
DTSTART;VALUE=DATE:20240301
DTEND;VALUE=DATE:20240304
DTSTAMP:20260424T001547
CREATED:20240215T205828Z
LAST-MODIFIED:20240215T205828Z
UID:5313-1709251200-1709510399@aa-nia-dist43.org
SUMMARY:NIA Spring Conference
DESCRIPTION:NIA Spring Conference 2024 Flyer \n 
URL:https://aa-nia-dist43.org/event/nia-spring-conference/
LOCATION:Hyatt Regency Schaumburg\, 1800 East Golf Road\, Schaumburg\, IL\, 60173\, United States
END:VEVENT
BEGIN:VEVENT
DTSTART;TZID=America/Chicago:20240224T100000
DTEND;TZID=America/Chicago:20240224T123000
DTSTAMP:20260424T001547
CREATED:20240215T210314Z
LAST-MODIFIED:20240215T210356Z
UID:5315-1708768800-1708777800@aa-nia-dist43.org
SUMMARY:NIA and District 42 Service Committee Workshop
DESCRIPTION:Service Committee Workshop 02:24:24 Flyer
URL:https://aa-nia-dist43.org/event/nia-and-district-42-service-committee-workshop/
LOCATION:First United Methodist Church\, 945 South Garfield Avenue\, Hinsdale\, IL\, 60521\, United States
END:VEVENT
BEGIN:VEVENT
DTSTART;TZID=America/Chicago:20240221T190000
DTEND;TZID=America/Chicago:20240221T200000
DTSTAMP:20260424T001547
CREATED:20240104T170551Z
LAST-MODIFIED:20240104T170756Z
UID:5239-1708542000-1708545600@aa-nia-dist43.org
SUMMARY:District 43 Meeting
DESCRIPTION:Zoom ID: 965 6659 0236 \nPassword: 932879 \nJOIN
URL:https://aa-nia-dist43.org/event/district-43-meeting/
END:VEVENT
BEGIN:VEVENT
DTSTART;TZID=America/Chicago:20240218T180000
DTEND;TZID=America/Chicago:20240218T203000
DTSTAMP:20260424T001547
CREATED:20231128T215044Z
LAST-MODIFIED:20240104T172336Z
UID:5194-1708279200-1708288200@aa-nia-dist43.org
SUMMARY:The Foxhall Group 14th Anniversary Celebration
DESCRIPTION:Foxhall 14th Anniversary flyer \nEnter through Door \nYou may also attend the meeting virtually: \nZOOM Meeting ID:   938 369 2314\nPassword: 583339 \n 
URL:https://aa-nia-dist43.org/event/the-foxhall-group-14th-anniversary-celebration/
LOCATION:All Saints Catholic Academy\, 1155 Aurora Ave.\, Naperville\, IL\, 60540
END:VEVENT
BEGIN:VEVENT
DTSTART;TZID=America/Chicago:20240217T180000
DTEND;TZID=America/Chicago:20240217T203000
DTSTAMP:20260424T001547
CREATED:20240104T194058Z
LAST-MODIFIED:20240125T203400Z
UID:5274-1708192800-1708201800@aa-nia-dist43.org
SUMMARY:DuPage County Open
DESCRIPTION:2024 Dupage Open Flyer \nDoors open at 6:00 \nSpeakers at 7:00 \nDistrict 43 is hosting the hospitality table at the DuPage Open and we need your help! \nPlease email our DCM at dcm@aa-nia-dist43.org to receive information about signing up. \nTo volunteer or for information\, email dupagecountyopen@gmail.com
URL:https://aa-nia-dist43.org/event/dupage-county-open/
LOCATION:Parkview Community Church\, 764 St. Charles Road\, Glen Ellyn\, IL\, 60137
END:VEVENT
BEGIN:VEVENT
DTSTART;TZID=America/Chicago:20240203T180000
DTEND;TZID=America/Chicago:20240203T213000
DTSTAMP:20260424T001547
CREATED:20231115T023859Z
LAST-MODIFIED:20231214T212603Z
UID:5172-1706983200-1706995800@aa-nia-dist43.org
SUMMARY:Movie Night
DESCRIPTION:District 43 movie night flyer! Feb 3\, 2024
URL:https://aa-nia-dist43.org/event/movie-night/
LOCATION:Community United Methodist Church\, 20 N. Center Street\, Naperville\, IL\, 60540\, United States
ORGANIZER;CN="District 43 Events Committee":MAILTO:events@aa-nia-dist43.org
END:VEVENT
BEGIN:VEVENT
DTSTART;TZID=America/Chicago:20240203T133000
DTEND;TZID=America/Chicago:20240203T153000
DTSTAMP:20260424T001547
CREATED:20240104T191537Z
LAST-MODIFIED:20240105T145237Z
UID:5267-1706967000-1706974200@aa-nia-dist43.org
SUMMARY:Archives Workshop
DESCRIPTION:Workshop flyer
URL:https://aa-nia-dist43.org/event/archives-workshop/
LOCATION:WSFC\, 710 E. Ogden\, Suite 430\, Naperville
END:VEVENT
BEGIN:VEVENT
DTSTART;TZID=America/Chicago:20240120T080000
DTEND;TZID=America/Chicago:20240120T140000
DTSTAMP:20260424T001547
CREATED:20240104T191128Z
LAST-MODIFIED:20240105T143607Z
UID:5265-1705737600-1705759200@aa-nia-dist43.org
SUMMARY:NIA 20 Winter Committee Meeting and Service Orientation Workshop
DESCRIPTION:8:00 AM fellowship \n9:00 AM meeting \nFlyer with Registration Information \nFolleto en Español con información de registro \nService Orientation Workshop flyer \nFolleto del taller de orientación de servicios
URL:https://aa-nia-dist43.org/event/nia-20-winter-committee-meeting/
LOCATION:Lord of Life Lutheran Church\, 40W605 IL Rt 38\, Elburn\, IL\, United States
END:VEVENT
BEGIN:VEVENT
DTSTART;TZID=America/Chicago:20240117T190000
DTEND;TZID=America/Chicago:20240117T200000
DTSTAMP:20260424T001547
CREATED:20240104T163834Z
LAST-MODIFIED:20240104T163834Z
UID:5236-1705518000-1705521600@aa-nia-dist43.org
SUMMARY:District 43 Business Meeting
DESCRIPTION:Zoom ID: 965 6659 0236 \nPassword: 932879 \nJOIN
URL:https://aa-nia-dist43.org/event/district-43-business-meeting/
END:VEVENT
BEGIN:VEVENT
DTSTART;TZID=America/Chicago:20231220T190000
DTEND;TZID=America/Chicago:20231220T200000
DTSTAMP:20260424T001547
CREATED:20230616T182820Z
LAST-MODIFIED:20230616T182820Z
UID:5018-1703098800-1703102400@aa-nia-dist43.org
SUMMARY:December District 43 Business Meeting
DESCRIPTION:Zoom ID: 965 6659 0236\nPassword: 932879\n\nJoin
URL:https://aa-nia-dist43.org/event/december-district-43-business-meeting/
END:VEVENT
BEGIN:VEVENT
DTSTART;TZID=America/Chicago:20231209T080000
DTEND;TZID=America/Chicago:20231209T150000
DTSTAMP:20260424T001547
CREATED:20231118T160854Z
LAST-MODIFIED:20231118T160854Z
UID:5178-1702108800-1702134000@aa-nia-dist43.org
SUMMARY:NIA 20 Winter Assembly
DESCRIPTION:See flyer for Zoom registration
URL:https://aa-nia-dist43.org/event/nia-20-winter-assembly/
LOCATION:Lord of Life Lutheran Church\, 40W605 IL Rt 38\, Elburn\, IL\, United States
END:VEVENT
BEGIN:VEVENT
DTSTART;TZID=America/Chicago:20231117T180000
DTEND;TZID=America/Chicago:20231119T120000
DTSTAMP:20260424T001547
CREATED:20230720T185541Z
LAST-MODIFIED:20230818T182228Z
UID:5052-1700244000-1700395200@aa-nia-dist43.org
SUMMARY:East Central Regional Forum
DESCRIPTION:The East Central Regional Forum is a free event open to all A.A. members or anyone interested in A.A. \nRegional Forums are designed to enhance communication and participation between A.A. members\, the General Service Board\, and staff and directors from the General Service Office and AA Grapevine. \nThe event is free\, registration begins August 18th. Rooms at the Doubletree by Hilton are Double Occupancy $119 per night US or Canadian. To receive a group rate\, reference the event. \n2023 East Central Flyer
URL:https://aa-nia-dist43.org/event/east-central-regional-forum/
LOCATION:The Doubletree by Hilton\, 6200 Quarry Lane\, Independence\, OH\, 44131\, United States
ATTACH;FMTTYPE=application/pdf:https://aa-nia-dist43.org/wp-content/uploads/2023/07/2023-East-Central-Flyer-1-1.pdf
ORGANIZER;CN="Regional Forum Staff Coordinator":MAILTO:regionalforums@aa.org
END:VEVENT
BEGIN:VEVENT
DTSTART;TZID=America/Chicago:20231115T190000
DTEND;TZID=America/Chicago:20231115T200000
DTSTAMP:20260424T001547
CREATED:20230616T182715Z
LAST-MODIFIED:20230616T182715Z
UID:5016-1700074800-1700078400@aa-nia-dist43.org
SUMMARY:November District 43 Business Meeting
DESCRIPTION:Zoom ID: 965 6659 0236\nPassword: 932879\n\nJoin
URL:https://aa-nia-dist43.org/event/november-district-43-business-meeting/
END:VEVENT
BEGIN:VEVENT
DTSTART;TZID=America/Chicago:20231104T080000
DTEND;TZID=America/Chicago:20231104T151500
DTSTAMP:20260424T001547
CREATED:20230827T173407Z
LAST-MODIFIED:20230827T173407Z
UID:5120-1699084800-1699110900@aa-nia-dist43.org
SUMMARY:Big Book Conference 2023 'A Daily Reprieve'
DESCRIPTION:NIA Area 20 hosted by AA District 61 \nBig Book Conference Flyers English and Spanish \nLunch is available for purchase of $15\, chicken kabobs or vegetarian plus sides. Lunch must be pre-ordered by October 25th.
URL:https://aa-nia-dist43.org/event/big-book-conference-2023-a-daily-reprieve/
LOCATION:Lord of Life Lutheran Church\, 40W605 IL Rt 38\, Elburn\, IL\, United States
END:VEVENT
END:VCALENDAR