BEGIN:VCALENDAR
VERSION:2.0
PRODID:-//Alcoholics Anonymous (N.I.A.20-District 43) - ECPv6.15.20//NONSGML v1.0//EN
CALSCALE:GREGORIAN
METHOD:PUBLISH
X-WR-CALNAME:Alcoholics Anonymous (N.I.A.20-District 43)
X-ORIGINAL-URL:https://aa-nia-dist43.org
X-WR-CALDESC:Events for Alcoholics Anonymous (N.I.A.20-District 43)
REFRESH-INTERVAL;VALUE=DURATION:PT1H
X-Robots-Tag:noindex
X-PUBLISHED-TTL:PT1H
BEGIN:VTIMEZONE
TZID:America/Chicago
BEGIN:DAYLIGHT
TZOFFSETFROM:-0600
TZOFFSETTO:-0500
TZNAME:CDT
DTSTART:20220313T080000
END:DAYLIGHT
BEGIN:STANDARD
TZOFFSETFROM:-0500
TZOFFSETTO:-0600
TZNAME:CST
DTSTART:20221106T070000
END:STANDARD
BEGIN:DAYLIGHT
TZOFFSETFROM:-0600
TZOFFSETTO:-0500
TZNAME:CDT
DTSTART:20230312T080000
END:DAYLIGHT
BEGIN:STANDARD
TZOFFSETFROM:-0500
TZOFFSETTO:-0600
TZNAME:CST
DTSTART:20231105T070000
END:STANDARD
BEGIN:DAYLIGHT
TZOFFSETFROM:-0600
TZOFFSETTO:-0500
TZNAME:CDT
DTSTART:20240310T080000
END:DAYLIGHT
BEGIN:STANDARD
TZOFFSETFROM:-0500
TZOFFSETTO:-0600
TZNAME:CST
DTSTART:20241103T070000
END:STANDARD
END:VTIMEZONE
BEGIN:VEVENT
DTSTART;TZID=America/Chicago:20230816T190000
DTEND;TZID=America/Chicago:20230816T200000
DTSTAMP:20260424T072207
CREATED:20230615T214742Z
LAST-MODIFIED:20230616T183149Z
UID:5010-1692212400-1692216000@aa-nia-dist43.org
SUMMARY:August District 43 Business Meeting
DESCRIPTION:Zoom ID: 965 6659 0236\nPassword: 932879\n\nJoin
URL:https://aa-nia-dist43.org/event/aug-23-district-business-meeting/
ATTACH;FMTTYPE=image/png:https://aa-nia-dist43.org/wp-content/uploads/2022/09/new_cat7.png
END:VEVENT
BEGIN:VEVENT
DTSTART;TZID=America/Chicago:20230805T080000
DTEND;TZID=America/Chicago:20230805T120000
DTSTAMP:20260424T072207
CREATED:20230730T160404Z
LAST-MODIFIED:20230730T160404Z
UID:5069-1691222400-1691236800@aa-nia-dist43.org
SUMMARY:NIA 20 Summer Committee Meeting
DESCRIPTION:Summer Committee Meeting flyer \nIn person or on Zoom. Registration link is on the flyer. \n8:00 am fellowship\, 9:00 am meeting begins
URL:https://aa-nia-dist43.org/event/nia-20-summer-committee-meeting/
LOCATION:Lord of Life Lutheran Church\, 40W605 IL Rt 38\, Elburn\, IL\, United States
END:VEVENT
BEGIN:VEVENT
DTSTART;TZID=America/Chicago:20230719T190000
DTEND;TZID=America/Chicago:20230719T200000
DTSTAMP:20260424T072207
CREATED:20230615T214306Z
LAST-MODIFIED:20230616T183218Z
UID:5006-1689793200-1689796800@aa-nia-dist43.org
SUMMARY:July District 43 Business Meeting
DESCRIPTION:Zoom ID: 965 6659 0236\nPassword: 932879\n\nJoin
URL:https://aa-nia-dist43.org/event/jul-23-district-business-meeting/
ATTACH;FMTTYPE=image/png:https://aa-nia-dist43.org/wp-content/uploads/2022/09/new_cat7.png
END:VEVENT
BEGIN:VEVENT
DTSTART;TZID=America/Chicago:20230715T110000
DTEND;TZID=America/Chicago:20230715T153000
DTSTAMP:20260424T072207
CREATED:20230608T222222Z
LAST-MODIFIED:20230710T174851Z
UID:4992-1689418800-1689435000@aa-nia-dist43.org
SUMMARY:Foxhall Picnic
DESCRIPTION:Foxhall Picnic flyer \nThere is an entry fee for Centennial Beach\, $7 per adult or child for the Foxhall Picnic. Be sure you tell entry desk you are there for the Foxhall Picnic.
URL:https://aa-nia-dist43.org/event/foxhall-picnic/
LOCATION:Centennial Beach\, 500 Jackson Ave.\, Naperville\, IL\, 60540\, United States
END:VEVENT
BEGIN:VEVENT
DTSTART;TZID=America/Chicago:20230624T180000
DTEND;TZID=America/Chicago:20230624T210000
DTSTAMP:20260424T072207
CREATED:20230426T144522Z
LAST-MODIFIED:20230518T135754Z
UID:4470-1687629600-1687640400@aa-nia-dist43.org
SUMMARY:A.A. Trivia Night
DESCRIPTION:District 43 Trivia Night Flyer
URL:https://aa-nia-dist43.org/event/a-a-trivia-night/
LOCATION:Community United Methodist Church\, 20 N. Center Street\, Naperville\, IL\, 60540\, United States
ORGANIZER;CN="District 43 Events Committee":MAILTO:events@aa-nia-dist43.org
END:VEVENT
BEGIN:VEVENT
DTSTART;TZID=America/Chicago:20230621T190000
DTEND;TZID=America/Chicago:20230621T200000
DTSTAMP:20260424T072207
CREATED:20230422T003606Z
LAST-MODIFIED:20230616T183300Z
UID:4459-1687374000-1687377600@aa-nia-dist43.org
SUMMARY:June District 43 Business Meeting
DESCRIPTION:Zoom ID: 965 6659 0236\nPassword: 932879\n\nJoin
URL:https://aa-nia-dist43.org/event/jun-23-district-business-meeting/
ATTACH;FMTTYPE=image/png:https://aa-nia-dist43.org/wp-content/uploads/2022/09/new_cat7.png
END:VEVENT
BEGIN:VEVENT
DTSTART;TZID=America/Chicago:20230617T080000
DTEND;TZID=America/Chicago:20230617T080000
DTSTAMP:20260424T072207
CREATED:20230528T210727Z
LAST-MODIFIED:20230528T211425Z
UID:4971-1686988800-1686988800@aa-nia-dist43.org
SUMMARY:NIA-20 Summer Assembly
DESCRIPTION:Doors Open At 8am; Assembly Starts At 9am\nZOOM ID: 816 8671 7585 PASSCODE: Freedom\nFlyer
URL:https://aa-nia-dist43.org/event/nia20-summer-assembly/
LOCATION:Lord of Life Lutheran Church\, 40W605 IL Rt 38\, Elburn\, IL\, United States
END:VEVENT
BEGIN:VEVENT
DTSTART;TZID=America/Chicago:20230520T080000
DTEND;TZID=America/Chicago:20230520T120000
DTSTAMP:20260424T072207
CREATED:20230512T174104Z
LAST-MODIFIED:20230512T174104Z
UID:4672-1684569600-1684584000@aa-nia-dist43.org
SUMMARY:Spring Committee Meeting
DESCRIPTION:
URL:https://aa-nia-dist43.org/event/spring-committee-meeting/
LOCATION:Lord of Life Lutheran Church\, 40W605 IL Rt 38\, Elburn\, IL\, United States
END:VEVENT
BEGIN:VEVENT
DTSTART;TZID=America/Chicago:20230519T153000
DTEND;TZID=America/Chicago:20230521T103000
DTSTAMP:20260424T072207
CREATED:20230421T212901Z
LAST-MODIFIED:20230421T212901Z
UID:4450-1684510200-1684665000@aa-nia-dist43.org
SUMMARY:12 Step House Closed AA Men's Retreat
DESCRIPTION:Semi-annually since 1968\n$160 (room & meals)\n\nFlyer
URL:https://aa-nia-dist43.org/event/12-step-house-closed-aa-mens-retreat/
LOCATION:St Mary’s Retreat House\, 14230 Main St.\, Lemont\, IL\, 60439
END:VEVENT
BEGIN:VEVENT
DTSTART;TZID=America/Chicago:20230517T190000
DTEND;TZID=America/Chicago:20230517T200000
DTSTAMP:20260424T072207
CREATED:20230421T211554Z
LAST-MODIFIED:20230422T205016Z
UID:4446-1684350000-1684353600@aa-nia-dist43.org
SUMMARY:May '23 District Business Meeting
DESCRIPTION:Zoom ID: 965 6659 0236\nPassword: 932879\n\nJoin
URL:https://aa-nia-dist43.org/event/may-23-district-business-meeting/
ATTACH;FMTTYPE=image/png:https://aa-nia-dist43.org/wp-content/uploads/2022/09/new_cat7.png
END:VEVENT
BEGIN:VEVENT
DTSTART;TZID=America/Chicago:20230429T170000
DTEND;TZID=America/Chicago:20230429T200000
DTSTAMP:20260424T072207
CREATED:20230421T210759Z
LAST-MODIFIED:20230422T005337Z
UID:4442-1682787600-1682798400@aa-nia-dist43.org
SUMMARY:Spring Into Sobriety
DESCRIPTION:Open Beginner’s Meeting @ 5pm\nDinner @ 6pm\nOpen Speaker Meeting @ 7pm\nDonations Accepted\n\nFlyer
URL:https://aa-nia-dist43.org/event/spring-into-sobriety/
LOCATION:WSFC\, 710 E. Ogden\, Suite 430\, Naperville
END:VEVENT
END:VCALENDAR