BEGIN:VCALENDAR
VERSION:2.0
PRODID:-//Alcoholics Anonymous (N.I.A.20-District 43) - ECPv6.15.20//NONSGML v1.0//EN
CALSCALE:GREGORIAN
METHOD:PUBLISH
X-ORIGINAL-URL:https://aa-nia-dist43.org
X-WR-CALDESC:Events for Alcoholics Anonymous (N.I.A.20-District 43)
REFRESH-INTERVAL;VALUE=DURATION:PT1H
X-Robots-Tag:noindex
X-PUBLISHED-TTL:PT1H
BEGIN:VTIMEZONE
TZID:America/Chicago
BEGIN:DAYLIGHT
TZOFFSETFROM:-0600
TZOFFSETTO:-0500
TZNAME:CDT
DTSTART:20220313T080000
END:DAYLIGHT
BEGIN:STANDARD
TZOFFSETFROM:-0500
TZOFFSETTO:-0600
TZNAME:CST
DTSTART:20221106T070000
END:STANDARD
BEGIN:DAYLIGHT
TZOFFSETFROM:-0600
TZOFFSETTO:-0500
TZNAME:CDT
DTSTART:20230312T080000
END:DAYLIGHT
BEGIN:STANDARD
TZOFFSETFROM:-0500
TZOFFSETTO:-0600
TZNAME:CST
DTSTART:20231105T070000
END:STANDARD
BEGIN:DAYLIGHT
TZOFFSETFROM:-0600
TZOFFSETTO:-0500
TZNAME:CDT
DTSTART:20240310T080000
END:DAYLIGHT
BEGIN:STANDARD
TZOFFSETFROM:-0500
TZOFFSETTO:-0600
TZNAME:CST
DTSTART:20241103T070000
END:STANDARD
END:VTIMEZONE
BEGIN:VEVENT
DTSTART;TZID=America/Chicago:20230910T120000
DTEND;TZID=America/Chicago:20230910T150000
DTSTAMP:20260425T080104
CREATED:20230814T141348Z
LAST-MODIFIED:20230818T200832Z
UID:5091-1694347200-1694358000@aa-nia-dist43.org
SUMMARY:District 43 Picnic
DESCRIPTION:September 10 picnic flyer
URL:https://aa-nia-dist43.org/event/district-43-picnic/
LOCATION:DuPage River Walk Pavilion\, 800 Royce Road\, Naperville\, IL\, United States
ATTACH;FMTTYPE=application/pdf:https://aa-nia-dist43.org/wp-content/uploads/2023/08/September-10-picnic-1.pdf
END:VEVENT
BEGIN:VEVENT
DTSTART;TZID=America/Chicago:20230916T080000
DTEND;TZID=America/Chicago:20230916T150000
DTSTAMP:20260425T080104
CREATED:20230815T214830Z
LAST-MODIFIED:20230827T173554Z
UID:5094-1694851200-1694876400@aa-nia-dist43.org
SUMMARY:Northern Illinois Area 20 Fall Assembly
DESCRIPTION:Details at aa-nia.org \nFall Assembly Flyer \n8:00 am free breakfast \nlunch available for purchase
URL:https://aa-nia-dist43.org/event/northern-illinois-area-20-fall-assembly/
LOCATION:Lord of Life Lutheran Church\, 40W605 IL Rt 38\, Elburn\, IL\, United States
ATTACH;FMTTYPE=application/pdf:https://aa-nia-dist43.org/wp-content/uploads/2023/08/FALL-ASSEMBLY-1.pdf
END:VEVENT
BEGIN:VEVENT
DTSTART;TZID=America/Chicago:20230920T190000
DTEND;TZID=America/Chicago:20230920T200000
DTSTAMP:20260425T080104
CREATED:20230616T182343Z
LAST-MODIFIED:20230616T182343Z
UID:5012-1695236400-1695240000@aa-nia-dist43.org
SUMMARY:September District 43 Business Meeting
DESCRIPTION:Zoom ID: 965 6659 0236\nPassword: 932879\n\nJoin
URL:https://aa-nia-dist43.org/event/september-district-43-business-meeting/
END:VEVENT
END:VCALENDAR