BEGIN:VCALENDAR
VERSION:2.0
PRODID:-//Alcoholics Anonymous (N.I.A.20-District 43) - ECPv6.15.20//NONSGML v1.0//EN
CALSCALE:GREGORIAN
METHOD:PUBLISH
X-WR-CALNAME:Alcoholics Anonymous (N.I.A.20-District 43)
X-ORIGINAL-URL:https://aa-nia-dist43.org
X-WR-CALDESC:Events for Alcoholics Anonymous (N.I.A.20-District 43)
REFRESH-INTERVAL;VALUE=DURATION:PT1H
X-Robots-Tag:noindex
X-PUBLISHED-TTL:PT1H
BEGIN:VTIMEZONE
TZID:America/Chicago
BEGIN:DAYLIGHT
TZOFFSETFROM:-0600
TZOFFSETTO:-0500
TZNAME:CDT
DTSTART:20240310T080000
END:DAYLIGHT
BEGIN:STANDARD
TZOFFSETFROM:-0500
TZOFFSETTO:-0600
TZNAME:CST
DTSTART:20241103T070000
END:STANDARD
BEGIN:DAYLIGHT
TZOFFSETFROM:-0600
TZOFFSETTO:-0500
TZNAME:CDT
DTSTART:20250309T080000
END:DAYLIGHT
BEGIN:STANDARD
TZOFFSETFROM:-0500
TZOFFSETTO:-0600
TZNAME:CST
DTSTART:20251102T070000
END:STANDARD
BEGIN:DAYLIGHT
TZOFFSETFROM:-0600
TZOFFSETTO:-0500
TZNAME:CDT
DTSTART:20260308T080000
END:DAYLIGHT
BEGIN:STANDARD
TZOFFSETFROM:-0500
TZOFFSETTO:-0600
TZNAME:CST
DTSTART:20261101T070000
END:STANDARD
END:VTIMEZONE
BEGIN:VEVENT
DTSTART;VALUE=DATE:20250502
DTEND;VALUE=DATE:20250505
DTSTAMP:20260423T234120
CREATED:20250113T035418Z
LAST-MODIFIED:20250113T035418Z
UID:5711-1746144000-1746403199@aa-nia-dist43.org
SUMMARY:43rd Annual Northeast Indiana Convention and 80th Annual Banquet
DESCRIPTION:43rd Annual Northeast Indiana Convention and 80th Annual Banquet flyer
URL:https://aa-nia-dist43.org/event/43rd-annual-northeast-indiana-convention-and-80th-annual-banquet/
LOCATION:Grand Wayne Convention Center\, 120 W. Jefferson Blvd\, Fort Wayne\, IN\, 46802\, United States
END:VEVENT
BEGIN:VEVENT
DTSTART;VALUE=DATE:20250510
DTEND;VALUE=DATE:20250511
DTSTAMP:20260423T234120
CREATED:20250311T201654Z
LAST-MODIFIED:20250311T201654Z
UID:5797-1746835200-1746921599@aa-nia-dist43.org
SUMMARY:NIA 20 Spring Committee Meeting
DESCRIPTION:
URL:https://aa-nia-dist43.org/event/nia-20-spring-committee-meeting-2/
LOCATION:Lord of Life Lutheran Church\, 40W605 IL Rt 38\, Elburn\, IL\, United States
END:VEVENT
BEGIN:VEVENT
DTSTART;TZID=America/Chicago:20250516T153000
DTEND;TZID=America/Chicago:20250518T100000
DTSTAMP:20260423T234120
CREATED:20250404T172703Z
LAST-MODIFIED:20250404T172703Z
UID:5842-1747409400-1747562400@aa-nia-dist43.org
SUMMARY:12 Step House Men's Closed AA Retreat
DESCRIPTION:Retreat.flyer 05 -16-18 2025 \nReservation required \n773-844-4956 \n$160 room and meals
URL:https://aa-nia-dist43.org/event/12-step-house-mens-closed-aa-retreat-3/
LOCATION:St Mary’s Retreat House\, 14230 Main St.\, Lemont\, IL\, 60439
END:VEVENT
BEGIN:VEVENT
DTSTART;TZID=America/Chicago:20250521T190000
DTEND;TZID=America/Chicago:20250521T200000
DTSTAMP:20260423T234120
CREATED:20241217T214213Z
LAST-MODIFIED:20241217T215521Z
UID:5658-1747854000-1747857600@aa-nia-dist43.org
SUMMARY:District 43 Business Meeting
DESCRIPTION:JOIN \nZoom ID: 965 6659 0236 \nPassword: 932879 \n 
URL:https://aa-nia-dist43.org/event/district-43-business-meeting-7/
END:VEVENT
BEGIN:VEVENT
DTSTART;TZID=America/Chicago:20250524T183000
DTEND;TZID=America/Chicago:20250524T210000
DTSTAMP:20260423T234120
CREATED:20250323T013822Z
LAST-MODIFIED:20250502T171235Z
UID:5829-1748111400-1748120400@aa-nia-dist43.org
SUMMARY:AA District 43 Bingo Night
DESCRIPTION:Bingo Night flyer \nDoors open at 6:30 for fellowship\, snacks\, and desserts \nBingo begins at 7:00.
URL:https://aa-nia-dist43.org/event/aa-district-43-bingo-night-2/
LOCATION:Community United Methodist Church\, 20 N. Center Street\, Naperville\, IL\, 60540\, United States
END:VEVENT
BEGIN:VEVENT
DTSTART;TZID=America/Chicago:20250524T200000
DTEND;TZID=America/Chicago:20250524T230000
DTSTAMP:20260423T234120
CREATED:20250518T175523Z
LAST-MODIFIED:20250518T175523Z
UID:5872-1748116800-1748127600@aa-nia-dist43.org
SUMMARY:Anona Center East Sober Concert
DESCRIPTION:
URL:https://aa-nia-dist43.org/event/anona-center-east-sober-concert/
LOCATION:Anona Center East\, 125 S. Villa Ave\, Villa Park\, IL\, United States
END:VEVENT
END:VCALENDAR