BEGIN:VCALENDAR
VERSION:2.0
PRODID:-//Alcoholics Anonymous (N.I.A.20-District 43) - ECPv6.15.20//NONSGML v1.0//EN
CALSCALE:GREGORIAN
METHOD:PUBLISH
X-ORIGINAL-URL:https://aa-nia-dist43.org
X-WR-CALDESC:Events for Alcoholics Anonymous (N.I.A.20-District 43)
REFRESH-INTERVAL;VALUE=DURATION:PT1H
X-Robots-Tag:noindex
X-PUBLISHED-TTL:PT1H
BEGIN:VTIMEZONE
TZID:America/Chicago
BEGIN:DAYLIGHT
TZOFFSETFROM:-0600
TZOFFSETTO:-0500
TZNAME:CDT
DTSTART:20250309T080000
END:DAYLIGHT
BEGIN:STANDARD
TZOFFSETFROM:-0500
TZOFFSETTO:-0600
TZNAME:CST
DTSTART:20251102T070000
END:STANDARD
BEGIN:DAYLIGHT
TZOFFSETFROM:-0600
TZOFFSETTO:-0500
TZNAME:CDT
DTSTART:20260308T080000
END:DAYLIGHT
BEGIN:STANDARD
TZOFFSETFROM:-0500
TZOFFSETTO:-0600
TZNAME:CST
DTSTART:20261101T070000
END:STANDARD
BEGIN:DAYLIGHT
TZOFFSETFROM:-0600
TZOFFSETTO:-0500
TZNAME:CDT
DTSTART:20270314T080000
END:DAYLIGHT
BEGIN:STANDARD
TZOFFSETFROM:-0500
TZOFFSETTO:-0600
TZNAME:CST
DTSTART:20271107T070000
END:STANDARD
END:VTIMEZONE
BEGIN:VEVENT
DTSTART;TZID=America/Chicago:20260206T080000
DTEND;TZID=America/Chicago:20260208T170000
DTSTAMP:20260423T105743
CREATED:20260113T210658Z
LAST-MODIFIED:20260113T211622Z
UID:6097-1770364800-1770570000@aa-nia-dist43.org
SUMMARY:ISCYPAA XLIII
DESCRIPTION:Flyer
URL:https://aa-nia-dist43.org/event/iscypaa-xliii/
LOCATION:Chicago Marriott Naperville\, 1801 N. Naper Blvd\, Naperville\, IL\, 60563\, United States
END:VEVENT
BEGIN:VEVENT
DTSTART;TZID=America/Chicago:20260215T180000
DTEND;TZID=America/Chicago:20260215T210000
DTSTAMP:20260423T105743
CREATED:20260113T212406Z
LAST-MODIFIED:20260113T212406Z
UID:6103-1771178400-1771189200@aa-nia-dist43.org
SUMMARY:Foxhall 16 Year Anniversary Celebration
DESCRIPTION:Flyer
URL:https://aa-nia-dist43.org/event/foxhall-16-year-anniversary-celebration/
LOCATION:VFW of Naperville\, 908 W. Jackson Ave\,\, Naperville\, IL\, United States
END:VEVENT
BEGIN:VEVENT
DTSTART;TZID=America/Chicago:20260218T190000
DTEND;TZID=America/Chicago:20260218T200000
DTSTAMP:20260423T105743
CREATED:20260106T235459Z
LAST-MODIFIED:20260106T235459Z
UID:6017-1771441200-1771444800@aa-nia-dist43.org
SUMMARY:District 43 Business Meeting
DESCRIPTION:JOIN \nZoom ID: 965 6659 0236 \nPassword: 932879
URL:https://aa-nia-dist43.org/event/district-43-business-meeting-16/
END:VEVENT
BEGIN:VEVENT
DTSTART;TZID=America/Chicago:20260221T180000
DTEND;TZID=America/Chicago:20260221T203000
DTSTAMP:20260423T105743
CREATED:20260113T215747Z
LAST-MODIFIED:20260113T215747Z
UID:6113-1771696800-1771705800@aa-nia-dist43.org
SUMMARY:14th Annual DuPage County Open
DESCRIPTION:Flyer
URL:https://aa-nia-dist43.org/event/14th-annual-dupage-county-open-2/
LOCATION:Parkview Community Church\, 764 St. Charles Road\, Glen Ellyn\, IL\, 60137
END:VEVENT
END:VCALENDAR